BEGIN:VCALENDAR
VERSION:2.0
PRODID:-//ChamberMaster//Event Calendar 2.0//EN
METHOD:PUBLISH
X-PUBLISHED-TTL:P3D
REFRESH-INTERVAL:P3D
CALSCALE:GREGORIAN
BEGIN:VEVENT
DTSTART:20210217T180000Z
DTEND:20210217T190000Z
X-MICROSOFT-CDO-ALLDAYEVENT:FALSE
SUMMARY:SPECIAL EVENT: LAUNCH - The Path to Artemis III
DESCRIPTION:The U.S. Chamber of Commerce in conjunction with the Huntsville-Madison County Chamber of Commerce will convene a policy discussion\, "Path to Artemis III: Future of Human Deep Space Exploration\," focused on the role of Marshall Space Flight Center and greater Huntsville's industrial capabilities in developing the necessary technology and hardware for sustained U.S. lunar operations.
X-ALT-DESC;FMTTYPE=text/html:<br />\n<span style="font-size:16px\;">The U.S. Chamber of Commerce in conjunction with the Huntsville-Madison County Chamber of Commerce will convene a policy discussion\, &ldquo\;Path to Artemis III: Future of Human Deep Space Exploration\,&rdquo\; focused on the role of Marshall Space Flight Center and greater Huntsville&rsquo\;s industrial capabilities in developing the necessary technology and hardware for sustained U.S. lunar operations.</span>
LOCATION:Register HERE to watch the LIVE event.
UID:e.2112.12024
SEQUENCE:3
DTSTAMP:20260421T145334Z
URL:https://cm.hsvchamber.org/events/details/special-event-launch-the-path-to-artemis-iii-12024
END:VEVENT

END:VCALENDAR
