BEGIN:VCALENDAR
VERSION:2.0
PRODID:-//ChamberMaster//Event Calendar 2.0//EN
METHOD:PUBLISH
X-PUBLISHED-TTL:P3D
REFRESH-INTERVAL:P3D
CALSCALE:GREGORIAN
BEGIN:VEVENT
DTSTART:20210611T160000Z
DTEND:20210611T190000Z
X-MICROSOFT-CDO-ALLDAYEVENT:FALSE
SUMMARY:MEMBER EVENT: Simple Helix Birthday Party
DESCRIPTION:Please join us as we celebrate our birthday! The event will feature food trucks\, music\, games\, and party favors. Throughout the day\, we'll also hold tours of our Data Center Facility as well as cybersecurity panel discussions. Everything is free   just show up and hang out. Get a chance to meet our new CEO\, interact with our IT professionals\, and network with your community peers.\n\n\n\nRegister at the link provided HERE! \n\n\n\nIf you have trouble clicking the link\, copy and paste the link below to your address bar: \n\nhttps://www.simplehelix.com/event-registration-06-11-2021-sh-bday-party/
X-ALT-DESC;FMTTYPE=text/html:<p><span style="font-size:16px\;">Please join us as we celebrate our birthday!&nbsp\;The event will feature food trucks\,&nbsp\;music\, games\, and party favors.&nbsp\;Throughout the day\, we&rsquo\;ll also hold tours of our Data Center Facility as well as cybersecurity panel discussions.&nbsp\;Everything is free &ndash\; just show up and hang out.&nbsp\;Get a chance to meet our new CEO\, interact with our IT professionals\, and network with your community peers.<br />\n<br />\nRegister at the link provided <strong><a href="https://www.simplehelix.com/event-registration-06-11-2021-sh-bday-party/">HERE</a></strong>!&nbsp\;<br />\n<br />\nIf you have trouble clicking the link\, copy and paste the link below to your address bar:&nbsp\;<br />\nhttps://www.simplehelix.com/event-registration-06-11-2021-sh-bday-party/</span></p>\n
LOCATION:
UID:e.2112.12359
SEQUENCE:3
DTSTAMP:20260421T101004Z
URL:https://cm.hsvchamber.org/events/details/simple-helix-birthday-party-12359
END:VEVENT

END:VCALENDAR
