BEGIN:VCALENDAR
VERSION:2.0
PRODID:-//ChamberMaster//Event Calendar 2.0//EN
METHOD:PUBLISH
X-PUBLISHED-TTL:P3D
REFRESH-INTERVAL:P3D
CALSCALE:GREGORIAN
BEGIN:VEVENT
DTSTART:20221110T160000Z
DTEND:20221110T163000Z
X-MICROSOFT-CDO-ALLDAYEVENT:FALSE
SUMMARY:Ribbon Cutting: VOUS Salon Retreat
DESCRIPTION:Please join us for a Ribbon Cutting for VOUS Salon Retreat!\n\n\n\nIn VOUS Salon Retreat\, our salon area specializes in hair extensions\, hair color\, and hair cut and style. Our founder\, Jessica Barnes has built a reputation in the Huntsville and surrounding areas as a highly-skilled and sought-after hair extension specialist\, using only the highest quality hair and hair products. Every member of VOUS Salon Retreat is committed to ongoing education to make sure that they are not only all incredible at their craft but also engage our guests from a service mentality. Every guest should feel seen\, heard\, and spoiled during their visits. Our stylists are also formally trained on every aspect of our available services so that they can curate an experience that is right for each person that sits in their chair.\n\n\n\nOur spa areas bring natural inner body wellness through a state-of-the-art halotherapy salt room\, infrared sauna\, two massage rooms\, as well as a fully indulgent relaxation room for our clients. Our massage therapists are well-versed in several methods of massage to include Swedish massage\, Thai massage\, deep-tissue massage\, and other healing body work methods such as Reiki and Aromatherapy. They are formally trained on every aspect of our available services so they can curate an experience for each person that lays on their table.
X-ALT-DESC;FMTTYPE=text/html:<span style="font-size:16px\;">Please join us for a Ribbon Cutting for VOUS Salon Retreat!<br />\n<br />\n<em>In VOUS Salon Retreat\, our salon area specializes in hair extensions\, hair color\, and hair cut and style. Our founder\, Jessica Barnes has built a reputation in the Huntsville and surrounding areas as a highly-skilled and sought-after hair extension specialist\, using only the highest quality hair and hair products. Every member of VOUS Salon Retreat is committed to ongoing education to make sure that they are not only all incredible at their craft but also engage our guests from a service mentality. Every guest should feel seen\, heard\, and spoiled during their visits. Our stylists are also formally trained on every aspect of our available services so that they can curate an experience that is right for each person that sits in their chair.<br />\n<br />\nOur spa areas bring natural inner body wellness through a state-of-the-art halotherapy salt room\, infrared sauna\, two massage rooms\, as well as a fully indulgent relaxation room for our clients. Our massage therapists are well-versed in several methods of massage to include Swedish massage\, Thai massage\, deep-tissue massage\, and other healing body work methods such as Reiki and Aromatherapy. They are formally trained on every aspect of our available services so they can curate an experience for each person that lays on their table.</em></span>
LOCATION:
UID:e.2112.13706
SEQUENCE:3
DTSTAMP:20260421T052407Z
URL:https://cm.hsvchamber.org/events/details/ribbon-cutting-vous-salon-retreat-13706
END:VEVENT

END:VCALENDAR
