BEGIN:VCALENDAR
VERSION:2.0
PRODID:-//ChamberMaster//Event Calendar 2.0//EN
METHOD:PUBLISH
X-PUBLISHED-TTL:P3D
REFRESH-INTERVAL:P3D
CALSCALE:GREGORIAN
BEGIN:VEVENT
DTSTART:20200129T180000Z
DTEND:20200129T183000Z
X-MICROSOFT-CDO-ALLDAYEVENT:FALSE
SUMMARY:Ribbon Cutting: Verity Integrated Systems
DESCRIPTION:Ribbon Cutting
X-ALT-DESC;FMTTYPE=text/html:Ribbon Cutting
LOCATION:6767 Old Madison Pike Suite 600 Huntsville\, AL 35806
UID:e.2112.10778
SEQUENCE:3
DTSTAMP:20260422T055421Z
URL:https://cm.hsvchamber.org/events/details/ribbon-cutting-verity-integrated-systems-10778
END:VEVENT

END:VCALENDAR
