BEGIN:VCALENDAR
VERSION:2.0
PRODID:-//ChamberMaster//Event Calendar 2.0//EN
METHOD:PUBLISH
X-PUBLISHED-TTL:P3D
REFRESH-INTERVAL:P3D
CALSCALE:GREGORIAN
BEGIN:VEVENT
DTSTART:20221118T170000Z
DTEND:20221118T173000Z
X-MICROSOFT-CDO-ALLDAYEVENT:FALSE
SUMMARY:Ribbon Cutting: Twickenham Advisors
DESCRIPTION:Please join us for a Ribbon Cutting for Twickenham Advisors!\n\n\n\nAt Twickenham Advisors\, our four generations of advisors are deeply dedicated to our clients. We have deep roots\, all tied to the rich history of Huntsville\; we are future-facing and thrilled to be part of the dynamic growth of this area and the people who make it special. We are trusted partners with the individuals\, families and businesses we serve\, while providing financial advice and investment guidance as true fiduciaries.\n\n\n\nFrom business and estate planning to philanthropy and the pursuit of lifelong dreams\, we seek to provide our clients more time to do what they love with the confidence that their future is in good hands. Our team strives to deliver sincere and sophisticated solutions\, designed to enrich our clients? lives and propel prosperous legacies.
X-ALT-DESC;FMTTYPE=text/html:<span style="font-size:16px\;">Please join us for a Ribbon Cutting for <strong>Twickenham Advisors</strong>!<br />\n<br />\n<em>At Twickenham Advisors\, our four generations of advisors are deeply dedicated to our clients. We have deep roots\, all tied to the rich history of Huntsville\; we are future-facing and thrilled to be part of the dynamic growth of this area and the people who make it special. We are trusted partners with the individuals\, families and businesses we serve\, while providing financial advice and investment guidance as true fiduciaries.<br />\n<br />\nFrom business and estate planning to philanthropy and the pursuit of lifelong dreams\, we seek to provide our clients more time to do what they love with the confidence that their future is in good hands. Our team strives to deliver sincere and sophisticated solutions\, designed to enrich our clients? lives and propel prosperous legacies.</em></span><br />\n<br />\n&nbsp\;
LOCATION:Parking available in parking garage behind Regions.
UID:e.2112.13721
SEQUENCE:3
DTSTAMP:20260421T053407Z
URL:https://cm.hsvchamber.org/events/details/ribbon-cutting-twickenham-advisors-13721
END:VEVENT

END:VCALENDAR
