BEGIN:VCALENDAR
VERSION:2.0
PRODID:-//ChamberMaster//Event Calendar 2.0//EN
METHOD:PUBLISH
X-PUBLISHED-TTL:P3D
REFRESH-INTERVAL:P3D
CALSCALE:GREGORIAN
BEGIN:VEVENT
DTSTART:20210514T150000Z
DTEND:20210514T153000Z
X-MICROSOFT-CDO-ALLDAYEVENT:FALSE
SUMMARY:Ribbon Cutting: Tunji's Creations
DESCRIPTION:Join us for a Ribbon Cutting ceremony for Tunji's Creations! A family-owned and -operated business\, we make our products with all natural ingredients. Each have their own natural properties that will heal damaged skin\, but also renew it as well.\n\n\n\nWe hope that you enjoy these products just as much as we have enjoyed making them for you. You can also check us out on Facebook.
X-ALT-DESC;FMTTYPE=text/html:<span style="font-size:16px\;">Join us for a Ribbon Cutting ceremony for Tunji&#39\;s Creations! <span class="color_15">A family-owned and -operated business\, we make our products with all natural ingredients. Each have their own natural properties that will heal damaged skin\, but also renew it as well.<br />\n<br />\nWe hope that you enjoy these products just as much as we have enjoyed making them for you. You can also check us out on <a href="https://www.facebook.com/tunjiscreation/">Facebook</a>.</span></span>
LOCATION:
UID:e.2112.12315
SEQUENCE:3
DTSTAMP:20260421T101030Z
URL:https://cm.hsvchamber.org/events/details/ribbon-cutting-tunji-s-creations-12315
END:VEVENT

END:VCALENDAR
