BEGIN:VCALENDAR
VERSION:2.0
PRODID:-//ChamberMaster//Event Calendar 2.0//EN
METHOD:PUBLISH
X-PUBLISHED-TTL:P3D
REFRESH-INTERVAL:P3D
CALSCALE:GREGORIAN
BEGIN:VEVENT
DTSTART:20260529T163000Z
DTEND:20260529T170000Z
X-MICROSOFT-CDO-ALLDAYEVENT:FALSE
SUMMARY:Ribbon Cutting: True40 Huntsville
DESCRIPTION:Join us as we host a Ribbon Cutting to celebrate our member\, True40  Huntsville!\n\n\n\nA high-energy haven\, The True40  Studio method is a fusion of high-intensity\, low-impact strength training that is inspired by barre\, functional strength training\, Pilates\, and yoga.\n\n\n\nClasses range from 45-60 minutes\, and offer both modifications and challenges\, so that you can move in a way that is true to YOUR body. This means that our classes are also safe for pregnancy\, postpartum\, and injury-recovery.\n\n\n\nThrough empowering instructors\, and movements tailored to the beat of the music\, the \n\nTrue40  Studio method is a true celebration of movement.
X-ALT-DESC;FMTTYPE=text/html:<span style="font-size:16px\;">Join us as we host a Ribbon Cutting to celebrate our member\, <strong>True40</strong></span><sup><b>&reg\;</b><font size="2">&nbsp\;</font></sup><span style="font-size:16px\;"><strong>Huntsville</strong>!<br />\n<br />\n<em>A high-energy haven\, The True40</em></span><sup><i>&reg\;</i><font size="2">&nbsp\;</font></sup><span style="font-size:16px\;"><em>Studio method is a fusion of high-intensity\, low-impact strength training that is inspired by barre\, functional strength training\, Pilates\, and yoga.<br />\n<br />\nClasses range from 45-60 minutes\, and offer both modifications and challenges\, so that you can move in a way that is true to YOUR body. This means that our classes are also safe for pregnancy\, postpartum\, and injury-recovery.<br />\n<br />\nThrough empowering instructors\, and movements tailored to the beat of the music\, the&nbsp\;</em><br />\n<em>True40</em></span><em><sup>&reg\;</sup></em>&nbsp\;<span style="font-size:16px\;"><em>Studio method is a true celebration of movement.</em></span><br />\n&nbsp\;
LOCATION:
UID:e.2112.18285
SEQUENCE:3
DTSTAMP:20260423T055457Z
URL:https://cm.hsvchamber.org/events/details/ribbon-cutting-true40-huntsville-18285
END:VEVENT

END:VCALENDAR
