BEGIN:VCALENDAR
VERSION:2.0
PRODID:-//ChamberMaster//Event Calendar 2.0//EN
METHOD:PUBLISH
X-PUBLISHED-TTL:P3D
REFRESH-INTERVAL:P3D
CALSCALE:GREGORIAN
BEGIN:VEVENT
DTSTART:20221107T190000Z
DTEND:20221107T193000Z
X-MICROSOFT-CDO-ALLDAYEVENT:FALSE
SUMMARY:Ribbon Cutting: Tile Liquidators
DESCRIPTION:Please join us for a Ribbon Cutting for Tile Liquidators!\n\n\n\n Tile Liquidators has been proudly serving north Alabama for 25 years with "Showroom quality at liquidation prices."\n\n\n\nWe started out as a small Carpet Outlet just outside of Gadsden\, Ala. Since then we have grown to be the largest stocking floor covering dealer in Alabama\, with our third location having opened in 2020. Our product offering has grown also to now include cabinets\, countertops\, and exterior brick and stone\, to go along with all types of floor covering.\n\n\n\nOur design staff is always ready to assist our customers through the purchase process with free estimates and free cabinet design.
X-ALT-DESC;FMTTYPE=text/html:<span style="font-size:16px\;">Please join us for a Ribbon Cutting for Tile Liquidators!<br />\n<br />\n<em>&nbsp\;Tile Liquidators has been proudly serving north Alabama for 25 years with &ldquo\;Showroom quality at liquidation prices.&rdquo\;<br />\n<br />\nWe started out as a small Carpet Outlet just outside of Gadsden\, Ala. Since then we have grown to be the largest stocking floor covering dealer in Alabama\, with our third location having opened in 2020. Our product offering has grown also to now include cabinets\, countertops\, and exterior brick and stone\, to go along with all types of floor covering.<br />\n<br />\nOur design staff is always ready to assist our customers through the purchase process with free estimates and free cabinet design.</em></span><br />\n&nbsp\;
LOCATION:
UID:e.2112.13740
SEQUENCE:3
DTSTAMP:20260421T052112Z
URL:https://cm.hsvchamber.org/events/details/ribbon-cutting-tile-liquidators-13740
END:VEVENT

END:VCALENDAR
