BEGIN:VCALENDAR
VERSION:2.0
PRODID:-//ChamberMaster//Event Calendar 2.0//EN
METHOD:PUBLISH
X-PUBLISHED-TTL:P3D
REFRESH-INTERVAL:P3D
CALSCALE:GREGORIAN
BEGIN:VEVENT
DTSTART:20230919T170000Z
DTEND:20230919T173000Z
X-MICROSOFT-CDO-ALLDAYEVENT:FALSE
SUMMARY:Ribbon Cutting: The Paradise Event Center
DESCRIPTION:Please join us for a Ribbon Cutting for The Paradise Event Center\, LLC!\n\n\n\nHost your dream event at The Paradise Event Center\, owned by Evon Michelle Hamilton. The premier space for every occasion. Create unforgettable memories in our versatile event spaces. We come fully furnished with tables\, Chiavari chairs\, backdrops\, luxury linen and much more. You will be completely satisfied once you take part of the Paradise experience.
X-ALT-DESC;FMTTYPE=text/html:<span style="font-size:16px\;">Please join us for a Ribbon Cutting for <strong>The Paradise Event Center\, LLC</strong>!</span><br />\n<br />\n<span style="font-size:16px\;"><em>Host your dream event at The Paradise Event Center\, owned by Evon Michelle Hamilton. The premier space for every occasion. Create unforgettable memories in our versatile event spaces. We come fully furnished with tables\, Chiavari chairs\, backdrops\, luxury linen and much more. You will be completely satisfied once you take part of the Paradise experience.</em></span><br />\n&nbsp\;
LOCATION:
UID:e.2112.16074
SEQUENCE:3
DTSTAMP:20260424T024518Z
URL:https://cm.hsvchamber.org/events/details/ribbon-cutting-the-paradise-event-center-16074
END:VEVENT

END:VCALENDAR
