BEGIN:VCALENDAR
VERSION:2.0
PRODID:-//ChamberMaster//Event Calendar 2.0//EN
METHOD:PUBLISH
X-PUBLISHED-TTL:P3D
REFRESH-INTERVAL:P3D
CALSCALE:GREGORIAN
BEGIN:VEVENT
DTSTART:20230518T190000Z
DTEND:20230518T193000Z
X-MICROSOFT-CDO-ALLDAYEVENT:FALSE
SUMMARY:Ribbon Cutting: The Lofts at Dallas Mill
DESCRIPTION:Please join us for a Ribbon Cutting for The Lofts at Dallas Mill!\n\n\n\nLocated on Halsey Avenue in Downtown North\, our apartments will keep you connected to downtown living just outside the city center. Designer features\, like quartz countertops\, private patios\, and balconies\, will make you proud to call any of our brand-new studio\, one-\, and two-bedroom apartments for rent in Downtown North home.\n\n\n\nLocated just a short walk from Five Points\, downtown Huntsville and Lincoln Mill area\, these apartments make it easy to take in the sights and sounds of this bustling neighborhood. You'll find plenty of local shops and restaurants to explore\, as well as numerous supermarket options to meet your grocery needs.
X-ALT-DESC;FMTTYPE=text/html:<span style="font-size:16px\;">Please join us for a Ribbon Cutting for <strong>The Lofts at Dallas Mill</strong>!</span><br />\n<br />\n<em><span style="font-size:16px\;">Located on Halsey Avenue in Downtown North\, our apartments will keep you connected to downtown living just outside the city center. Designer features\, like quartz countertops\, private patios\, and balconies\, will make you proud to call any of our brand-new studio\, one-\, and two-bedroom apartments for rent in Downtown North home.<br />\n<br />\nLocated just a short walk from Five Points\, downtown Huntsville and Lincoln Mill area\, these apartments make it easy to take in the sights and sounds of this bustling neighborhood. You&rsquo\;ll find plenty of local shops and restaurants to explore\, as well as numerous supermarket options to meet your grocery needs.</span></em><br />\n&nbsp\;
LOCATION:Open parking.
UID:e.2112.14125
SEQUENCE:3
DTSTAMP:20260423T232748Z
URL:https://cm.hsvchamber.org/events/details/ribbon-cutting-the-lofts-at-dallas-mill-14125
END:VEVENT

END:VCALENDAR
