BEGIN:VCALENDAR
VERSION:2.0
PRODID:-//ChamberMaster//Event Calendar 2.0//EN
METHOD:PUBLISH
X-PUBLISHED-TTL:P3D
REFRESH-INTERVAL:P3D
CALSCALE:GREGORIAN
BEGIN:VEVENT
DTSTART:20260508T170000Z
DTEND:20260508T173000Z
X-MICROSOFT-CDO-ALLDAYEVENT:FALSE
SUMMARY:Ribbon Cutting: The Jessam at Hays Farm
DESCRIPTION:Join us for a Ribbon Cutting as we celebrate with our member\, The Jessam at Hays Farm!\n\n\n\nWelcome to The Jessam at Hays Farm   a thoughtfully designed apartment community offering spacious one-\, two-\, and three-bedroom residences in South Huntsville. Surrounded by green space and walking trails\, The Jessam combines modern design\, upscale finishes\, and everyday convenience for a lifestyle rooted in comfort and connection.\n\n\n\nThe Jessam offers more than just a place to live   it's a refined residential experience in Southeast Huntsville's Hays Farm community. Choose from a variety of spacious floor plans designed to suit your lifestyle\, each offering high ceilings\, quartz countertops\, and integrated smart home technology. Whether you're enjoying a quiet moment on your private balcony or preparing a meal in your chef-inspired kitchen\, every detail is designed for comfort and style. With energy-efficient appliances\, EV charging stations\, and abundant green space\, The Jessam is where modern living meets mindful sustainability.
X-ALT-DESC;FMTTYPE=text/html:<span style="font-size:16px\;">Join us for a Ribbon Cutting as we celebrate with our member\, <strong>The Jessam at Hays Farm</strong>!<br />\n<br />\n<em>Welcome to The Jessam at Hays Farm &ndash\; a thoughtfully designed apartment community offering spacious one-\, two-\, and three-bedroom residences in South Huntsville. Surrounded by green space and walking trails\, The Jessam combines modern design\, upscale finishes\, and everyday convenience for a lifestyle rooted in comfort and connection.<br />\n<br />\nThe Jessam offers more than just a place to live &mdash\; it&rsquo\;s a refined residential experience in Southeast Huntsville&rsquo\;s Hays Farm community. Choose from a variety of spacious floor plans designed to suit your lifestyle\, each offering high ceilings\, quartz countertops\, and integrated smart home technology. Whether you&rsquo\;re enjoying a quiet moment on your private balcony or preparing a meal in your chef-inspired kitchen\, every detail is designed for comfort and style. With energy-efficient appliances\, EV charging stations\, and abundant green space\, The Jessam is where modern living meets mindful sustainability.&nbsp\;</em></span><br />\n&nbsp\;
LOCATION:Open parking at Leasing Office
UID:e.2112.18559
SEQUENCE:3
DTSTAMP:20260423T054911Z
URL:https://cm.hsvchamber.org/events/details/ribbon-cutting-the-jessam-at-hays-farm-18559
END:VEVENT

END:VCALENDAR
