BEGIN:VCALENDAR
VERSION:2.0
PRODID:-//ChamberMaster//Event Calendar 2.0//EN
METHOD:PUBLISH
X-PUBLISHED-TTL:P3D
REFRESH-INTERVAL:P3D
CALSCALE:GREGORIAN
BEGIN:VEVENT
DTSTART:20210506T210000Z
DTEND:20210506T213000Z
X-MICROSOFT-CDO-ALLDAYEVENT:FALSE
SUMMARY:Ribbon Cutting: The Alexandria - Huntsville Apartments
DESCRIPTION:Join us for a Ribbon Cutting ceremony for The Alexandria!\n\n\n\nWhen you come home to The Alexandria\, you will come home to contemporary style\, cutting-edge features and a warm\, inviting community in the area's leading neighborhood. These one\, two and three bedroom apartments in Huntsville\, offer a wealth of in-home features in addition to dynamic common spaces to enable the life you deserve.\n\n\n\nBrowse the floor plans online\, take a look through the gallery and contact the leasing office today to learn more and schedule your tour of the community.
X-ALT-DESC;FMTTYPE=text/html:<br />\n<span style="font-size:16px\;">Join us for a Ribbon Cutting ceremony for The Alexandria!<br />\n<br />\nWhen you come home to The Alexandria\, you will come home to contemporary style\, cutting-edge features and a warm\, inviting community in the area&rsquo\;s leading neighborhood. These one\, two and three bedroom apartments in Huntsville\, offer a wealth of in-home features in addition to dynamic common spaces to enable the life you deserve.<br />\n<br />\nBrowse the floor plans online\, take a look through the gallery and contact the leasing office today to learn more and schedule your tour of the community.</span>
LOCATION:1028 Balch Road Madison\, AL 35758
UID:e.2112.12309
SEQUENCE:3
DTSTAMP:20260421T135937Z
URL:https://cm.hsvchamber.org/events/details/ribbon-cutting-the-alexandria-huntsville-apartments-12309
END:VEVENT

END:VCALENDAR
