BEGIN:VCALENDAR
VERSION:2.0
PRODID:-//ChamberMaster//Event Calendar 2.0//EN
METHOD:PUBLISH
X-PUBLISHED-TTL:P3D
REFRESH-INTERVAL:P3D
CALSCALE:GREGORIAN
BEGIN:VEVENT
DTSTART:20190425T200000Z
DTEND:20190425T203000Z
X-MICROSOFT-CDO-ALLDAYEVENT:FALSE
SUMMARY:Ribbon Cutting: T&W Operations
DESCRIPTION:Ribbon Cutting
X-ALT-DESC;FMTTYPE=text/html:Ribbon Cutting
LOCATION:Thursday\, 430 Wynn Drive Huntsville\, AL 35805
UID:e.2112.9723
SEQUENCE:3
DTSTAMP:20260420T091034Z
URL:https://cm.hsvchamber.org/events/details/ribbon-cutting-t-w-operations-9723
END:VEVENT

END:VCALENDAR
