BEGIN:VCALENDAR
VERSION:2.0
PRODID:-//ChamberMaster//Event Calendar 2.0//EN
METHOD:PUBLISH
X-PUBLISHED-TTL:P3D
REFRESH-INTERVAL:P3D
CALSCALE:GREGORIAN
BEGIN:VEVENT
DTSTART:20151013T160000Z
DTEND:20151013T170000Z
X-MICROSOFT-CDO-ALLDAYEVENT:FALSE
SUMMARY:Ribbon Cutting: Sure Save Pharmacy
DESCRIPTION:Ribbon Cutting
X-ALT-DESC;FMTTYPE=text/html:<span style="font-size:14px\;"><span style="font-family: arial\;">Ribbon Cutting</span></span>
LOCATION:30694 Hwy 72 W\, Ste A Madison\, AL 35758
UID:e.2112.5113
SEQUENCE:3
DTSTAMP:20260419T205929Z
URL:https://cm.hsvchamber.org/events/details/ribbon-cutting-sure-save-pharmacy-10-13-2015-5113
END:VEVENT

END:VCALENDAR
