BEGIN:VCALENDAR
VERSION:2.0
PRODID:-//ChamberMaster//Event Calendar 2.0//EN
METHOD:PUBLISH
X-PUBLISHED-TTL:P3D
REFRESH-INTERVAL:P3D
CALSCALE:GREGORIAN
BEGIN:VEVENT
DTSTART:20230420T210000Z
DTEND:20230420T213000Z
X-MICROSOFT-CDO-ALLDAYEVENT:FALSE
SUMMARY:Ribbon Cutting: Studio 53 Huntsville
DESCRIPTION:Please join us for a Ribbon Cutting for Studio 53 Huntsville!\n\n\n\nAt Studio 53\, we create and cultivate experiences. We set the bar high when it comes to professionalism and customer service. We are dedicated to making sure that our clients leave better than when they arrived. We are perfect for Baby Showers and Intimate gatherings such as bridal showers\, training classes\, and corporate events.\n\n\n\nAs a full-service venue\, we offer several different packages that can be customized to fit your individual needs. We offer CONVENIENCE. Give us your vision and we can make it happen!
X-ALT-DESC;FMTTYPE=text/html:<span style="font-size:16px\;">Please join us for a Ribbon Cutting for <strong>Studio 53 Huntsville</strong>!</span><br />\n<br />\n<em><span style="font-size:16px\;">At Studio 53\, we create and cultivate experiences. We set the bar high when it comes to professionalism and customer service. We are dedicated to making sure that our clients leave better than when they arrived. We are perfect for Baby Showers and Intimate gatherings such as bridal showers\, training classes\, and corporate events.<br />\n<br />\nAs a full-service venue\, we offer several different packages that can be customized to fit your individual needs. We offer CONVENIENCE. Give us your vision and we can make it happen! </span></em><br />\n&nbsp\;
LOCATION:
UID:e.2112.14359
SEQUENCE:3
DTSTAMP:20260423T214913Z
URL:https://cm.hsvchamber.org/events/details/ribbon-cutting-studio-53-huntsville-14359
END:VEVENT

END:VCALENDAR
