BEGIN:VCALENDAR
VERSION:2.0
PRODID:-//ChamberMaster//Event Calendar 2.0//EN
METHOD:PUBLISH
X-PUBLISHED-TTL:P3D
REFRESH-INTERVAL:P3D
CALSCALE:GREGORIAN
BEGIN:VEVENT
DTSTART:20230911T163000Z
DTEND:20230911T170000Z
X-MICROSOFT-CDO-ALLDAYEVENT:FALSE
SUMMARY:Ribbon Cutting: StretchLab Huntsville
DESCRIPTION:Please join us for a Ribbon Cutting for StetchLab Huntsville!\n\n\n\nStretchLab is a unique wellness concept\, offering customized assisted-stretch sessions.\n\n\n\nNo two bodies are the same and no two stretches at StretchLab are the same. One-on-one stretching is about identifying tightness and imbalances in your body and customizing a stretch routine that is just for you. Our clients may come in with pain\, tightness or specific focus areas\, but they keep coming back and commit to their flexibility journey once they experience the freedom that comes with having a wider range of motion and flexibility.
X-ALT-DESC;FMTTYPE=text/html:<span style="font-size:16px\;">Please join us for a Ribbon Cutting for <strong>StetchLab Huntsville</strong>!<br />\n<br />\n<em>StretchLab is a unique wellness concept\, offering customized assisted-stretch sessions.<br />\n<br />\nNo two bodies are the same and no two stretches at StretchLab are the same. One-on-one stretching is about identifying tightness and imbalances in your body and customizing a stretch routine that is just for you. Our clients may come in with pain\, tightness or specific focus areas\, but they keep coming back and commit to their flexibility journey once they experience the freedom that comes with having a wider range of motion and flexibility.</em></span><br />\n&nbsp\;
LOCATION:Upper deck parking garage.
UID:e.2112.16056
SEQUENCE:3
DTSTAMP:20260424T042454Z
URL:https://cm.hsvchamber.org/events/details/ribbon-cutting-stretchlab-huntsville-16056
END:VEVENT

END:VCALENDAR
