BEGIN:VCALENDAR
VERSION:2.0
PRODID:-//ChamberMaster//Event Calendar 2.0//EN
METHOD:PUBLISH
X-PUBLISHED-TTL:P3D
REFRESH-INTERVAL:P3D
CALSCALE:GREGORIAN
BEGIN:VEVENT
DTSTART:20260514T190000Z
DTEND:20260514T193000Z
X-MICROSOFT-CDO-ALLDAYEVENT:FALSE
SUMMARY:Ribbon Cutting: Stone Martin Builders - Magnolia Hill
DESCRIPTION:Join us for a Ribbon Cutting as we celebrate with our member Stone Martin Builders\, and the Grand Opening of their new Magnolia Hill Community!\n\n\n\nDiscover the charm of Magnolia Hill by Stone Martin Builders\, a premier new construction community in Toney\, AL. Ideally situated off Pulaski Pike and Monroe Road near Meridianville\, Magnolia Hill offers a peaceful retreat with easy access to Huntsville's top employers\, shopping\, and dining. Enjoy the best of both worlds   quiet suburban living with major conveniences just minutes away. Our thoughtfully designed homes feature spacious open-concept floorplans\, gourmet kitchens\, and integrated smart home technology to elevate everyday life. Located within a growing and desirable area of Madison County\, Magnolia Hill provides an exceptional lifestyle for families\, professionals\, and anyone seeking modern comfort in a scenic setting. Come home to Magnolia Hill   where community\, convenience\, and craftsmanship meet.
X-ALT-DESC;FMTTYPE=text/html:<span style="font-size:16px\;">Join us for a Ribbon Cutting as we celebrate with our member <strong>Stone Martin Builders</strong>\, and the Grand Opening of their new Magnolia Hill Community!<br />\n<br />\n<em>Discover the charm of Magnolia Hill by Stone Martin Builders\, a premier new construction community in Toney\, AL. Ideally situated off Pulaski Pike and Monroe Road near Meridianville\, Magnolia Hill offers a peaceful retreat with easy access to Huntsville&rsquo\;s top employers\, shopping\, and dining. Enjoy the best of both worlds &ndash\; quiet suburban living with major conveniences just minutes away. Our thoughtfully designed homes feature spacious open-concept floorplans\, gourmet kitchens\, and integrated smart home technology to elevate everyday life. Located within a growing and desirable area of Madison County\, Magnolia Hill provides an exceptional lifestyle for families\, professionals\, and anyone seeking modern comfort in a scenic setting. Come home to Magnolia Hill &ndash\; where community\, convenience\, and craftsmanship meet.</em></span><br />\n&nbsp\;
LOCATION:Street parking available.
UID:e.2112.18581
SEQUENCE:3
DTSTAMP:20260423T054751Z
URL:https://cm.hsvchamber.org/events/details/ribbon-cutting-stone-martin-builders-magnolia-hill-18581
END:VEVENT

END:VCALENDAR
