BEGIN:VCALENDAR
VERSION:2.0
PRODID:-//ChamberMaster//Event Calendar 2.0//EN
METHOD:PUBLISH
X-PUBLISHED-TTL:P3D
REFRESH-INTERVAL:P3D
CALSCALE:GREGORIAN
BEGIN:VEVENT
DTSTART:20230612T200000Z
DTEND:20230612T203000Z
X-MICROSOFT-CDO-ALLDAYEVENT:FALSE
SUMMARY:Ribbon Cutting: SSOE Group
DESCRIPTION:Please join us for a Ribbon Cutting for the SSOE Group!\n\n\n\nSSOE is an internationally ranked architecture and engineering firm. It is our promise to save our clients time\, trouble\, and money. We hold ourselves accountable by documenting our savings with $1.5 billion saved for clients since we started tracking in 2009.\n\n\n\nWe differentiate ourselves through collaboration: from the way we treat each other to how we deliver projects. We align project stakeholders\, create a common vision\, and deliver that vision. We specialize in delivering complicated\, high-stakes projects and value through long-term program management and sustaining support.
X-ALT-DESC;FMTTYPE=text/html:<span style="font-size:16px\;">Please join us for a Ribbon Cutting for the <strong>SSOE Group</strong>!<br />\n<br />\n<em>SSOE is an internationally ranked architecture and engineering firm. It is our promise to save our clients time\, trouble\, and money. We hold ourselves accountable by documenting our savings with $1.5 billion saved for clients since we started tracking in 2009.<br />\n<br />\nWe differentiate ourselves through collaboration: from the way we treat each other to how we deliver projects. We align project stakeholders\, create a common vision\, and deliver that vision. We specialize in delivering complicated\, high-stakes projects and value through long-term program management and sustaining support.</em></span><br />\n&nbsp\;
LOCATION:
UID:e.2112.14449
SEQUENCE:3
DTSTAMP:20260423T225909Z
URL:https://cm.hsvchamber.org/events/details/ribbon-cutting-ssoe-group-14449
END:VEVENT

END:VCALENDAR
