BEGIN:VCALENDAR
VERSION:2.0
PRODID:-//ChamberMaster//Event Calendar 2.0//EN
METHOD:PUBLISH
X-PUBLISHED-TTL:P3D
REFRESH-INTERVAL:P3D
CALSCALE:GREGORIAN
BEGIN:VEVENT
DTSTART:20260612T140000Z
DTEND:20260612T143000Z
X-MICROSOFT-CDO-ALLDAYEVENT:FALSE
SUMMARY:Ribbon Cutting: Square Foot Huntsville Group - KW Commercial
DESCRIPTION:Join us for a Ribbon Cutting as we celebrate with our member\, Square Foot Huntsville Group!\n\n\n\nAt the heart of The Square Foot Huntsville Group of KW Commercial is a simple yet powerful mission: to help individuals\, organizations\, and communities achieve their greatest potential. Led by founder and principal Donna Lamb\, the company blends decades of expertise in commercial real estate\, business development\, and nonprofit leadership with a personal passion for empowering others.\n\n\n\nLamb is a recognized community leader with an extensive background in tenant representation\, property acquisition\, and investment strategy. She has managed portfolios worth over $30 million and worked with notable clients such as Teledyne Brown Engineering\, Blue Bell Ice Cream\, and Dynetics/Leidos. Her current leadership role at KW Commercial in Huntsville reflects her continued commitment to excellence in commercial real estate.\n\n\n\nIn addition to her business achievements\, Lamb brings years of experience in nonprofit leadership. As the former CEO of CASA of Northeast Arkansas\, she doubled the organization's capacity and was named a finalist for High Impact Non-Profit of the Year. She has led successful fundraising efforts across the U.S. and Malaysia and held key leadership positions with organizations such as the Association of British Women in Malaysia and served as Chair of Huntsville's prestigious Committee of 100.\n\n\n\nWhether guiding a property investment\, launching a new initiative\, or mentoring a nonprofit\, Donna Lamb's work is rooted in strategic thinking\, heartfelt collaboration\, and a relentless drive to help others succeed.
X-ALT-DESC;FMTTYPE=text/html:<span style="font-size:16px\;">Join us for a Ribbon Cutting as we celebrate with our member\, <strong>Square Foot Huntsville Group</strong>!<br />\n<br />\n<em>At the heart of The Square Foot Huntsville Group of KW Commercial is a simple yet powerful mission: to help individuals\, organizations\, and communities achieve their greatest potential. Led by founder and principal Donna Lamb\, the company blends decades of expertise in commercial real estate\, business development\, and nonprofit leadership with a personal passion for empowering others.<br />\n<br />\nLamb is a recognized community leader with an extensive background in tenant representation\, property acquisition\, and investment strategy. She has managed portfolios worth over $30 million and worked with notable clients such as Teledyne Brown Engineering\, Blue Bell Ice Cream\, and Dynetics/Leidos. Her current leadership role at KW Commercial in Huntsville reflects her continued commitment to excellence in commercial real estate.<br />\n<br />\nIn addition to her business achievements\, Lamb brings years of experience in nonprofit leadership. As the former CEO of CASA of Northeast Arkansas\, she doubled the organization&#39\;s capacity and was named a finalist for High Impact Non-Profit of the Year. She has led successful fundraising efforts across the U.S. and Malaysia and held key leadership positions with organizations such as the Association of British Women in Malaysia and served as Chair of Huntsville&rsquo\;s prestigious Committee of 100.<br />\n<br />\nWhether guiding a property investment\, launching a new initiative\, or mentoring a nonprofit\, Donna Lamb&#39\;s work is rooted in strategic thinking\, heartfelt collaboration\, and a relentless drive to help others succeed.</em></span><br />\n&nbsp\;
LOCATION:Please park on the East and South sides of the building.
UID:e.2112.18584
SEQUENCE:3
DTSTAMP:20260423T054846Z
URL:https://cm.hsvchamber.org/events/details/ribbon-cutting-square-foot-huntsville-group-kw-commercial-18584
END:VEVENT

END:VCALENDAR
