BEGIN:VCALENDAR
VERSION:2.0
PRODID:-//ChamberMaster//Event Calendar 2.0//EN
METHOD:PUBLISH
X-PUBLISHED-TTL:P3D
REFRESH-INTERVAL:P3D
CALSCALE:GREGORIAN
BEGIN:VEVENT
DTSTART:20220708T170000Z
DTEND:20220708T173000Z
X-MICROSOFT-CDO-ALLDAYEVENT:FALSE
SUMMARY:Ribbon Cutting: Singing River Dentistry
DESCRIPTION:Please join us for a Ribbon Cutting for Singing River Dentistry!\n\n\n\nAbove all else\, we here at Singing River Dentistry want our patients to maintain healthy\, bright\, and beautiful smiles! Next to that\, we want our patients to feel comfortable and content during their appointments with us. Both of these goals begin with patient education! Staying informed can help you better understand the tenants of good oral health\, prevent potential problems\, and reveal why certain treatments are necessary.\n\n\n\nOur experience and expertise\, along with our use of advanced technologies and techniques establishes a higher level of care. Cutting-edge technology has resulted in procedures that are safer\, faster\, more comfortable\, and more effective than ever before. If you would like to learn more about our practice and our procedures\, our team is happy to help!
X-ALT-DESC;FMTTYPE=text/html:<span style="font-size:16px\;">Please join us for a Ribbon Cutting for <strong>Singing River Dentistry</strong>!<br />\n<br />\n<em>Above all else\, we here at Singing River Dentistry want our patients to maintain healthy\, bright\, and beautiful smiles! Next to that\, we want our patients to feel comfortable and content during their appointments with us. Both of these goals begin with patient education! Staying informed can help you better understand the tenants of good oral health\, prevent potential problems\, and reveal why certain treatments are necessary.<br />\n<br />\nOur experience and expertise\, along with our use of advanced technologies and techniques establishes a higher level of care. Cutting-edge technology has resulted in procedures that are safer\, faster\, more comfortable\, and more effective than ever before. If you would like to learn more about our practice and our procedures\, our team is happy to help!</em></span>
LOCATION:
UID:e.2112.13535
SEQUENCE:3
DTSTAMP:20260421T114532Z
URL:https://cm.hsvchamber.org/events/details/ribbon-cutting-singing-river-dentistry-13535
END:VEVENT

END:VCALENDAR
