BEGIN:VCALENDAR
VERSION:2.0
PRODID:-//ChamberMaster//Event Calendar 2.0//EN
METHOD:PUBLISH
X-PUBLISHED-TTL:P3D
REFRESH-INTERVAL:P3D
CALSCALE:GREGORIAN
BEGIN:VEVENT
DTSTART:20230724T183000Z
DTEND:20230724T190000Z
X-MICROSOFT-CDO-ALLDAYEVENT:FALSE
SUMMARY:Ribbon Cutting: Seay Seay & Litchfield Architects
DESCRIPTION:Please join us for a Ribbon Cutting for Seay Seay & Litchfield Architects!\n\n\n\nFounded in 1977 by the late Jim H. Seay Sr.\, Seay\, Seay & Litchfield Architects is a design oriented firm grounded in quality client service. Principals of the firm are Jim H. Seay Jr.\, Frank E. Litchfield Ill\, Greg O'Neal\, and Wes Osmer. Our method\, as characterized by our clients\, champions disciplined creativity with attention to detail\, rendering high-value\, client-sensitive services\, resulting in successfully constructed projects. SS&L translates clients' needs into architectural ideas\, serving as the vehicle to a material reality.\n\n\n\nA nationally recognized firm\, SS&L Architects excels in the field of quality driven design services\, while striving for the highest level of customer satisfaction. Featuring a team of talented\, experienced\, and enthusiastic professionals\, time and time again we achieve design excellence through the building function\, construction detailing\, and aesthetic form. Clients across the southeast have commissioned our team for projects large and small\, with varying degree of project constraints. From start to finish\, the SS&L family is dedicated to each project's successful completion.
X-ALT-DESC;FMTTYPE=text/html:<span style="font-size:16px\;">Please join us for a Ribbon Cutting for <strong>Seay Seay &amp\; Litchfield Architects</strong>!<br />\n<br />\n<em>Founded in 1977 by the late Jim H. Seay Sr.\, Seay\, Seay &amp\; Litchfield Architects is a design oriented firm grounded in quality client service. Principals of the firm are Jim H. Seay Jr.\, Frank E. Litchfield Ill\, Greg O&#39\;Neal\, and Wes Osmer. Our method\, as characterized by our clients\, champions disciplined creativity with attention to detail\, rendering high-value\, client-sensitive services\, resulting in successfully constructed projects. SS&amp\;L translates clients&#39\; needs into architectural ideas\, serving as the vehicle to a material reality.<br />\n<br />\nA nationally recognized firm\, SS&amp\;L Architects excels in the field of quality&shy\;driven design services\, while striving for the highest level of customer satisfaction. Featuring a team of talented\, experienced\, and enthusiastic professionals\, time and time again we achieve design excellence through the building function\, construction detailing\, and aesthetic form. Clients across the southeast have commissioned our team for projects large and small\, with varying degree of project constraints. From start to finish\, the SS&amp\;L family is dedicated to each project&#39\;s successful completion. </em></span><br />\n&nbsp\;
LOCATION:We are the first room to the left off of the north lobby upper parking area. You can park anywhere.
UID:e.2112.15978
SEQUENCE:3
DTSTAMP:20260424T004802Z
URL:https://cm.hsvchamber.org/events/details/ribbon-cutting-seay-seay-litchfield-architects-15978
END:VEVENT

END:VCALENDAR
