BEGIN:VCALENDAR
VERSION:2.0
PRODID:-//ChamberMaster//Event Calendar 2.0//EN
METHOD:PUBLISH
X-PUBLISHED-TTL:P3D
REFRESH-INTERVAL:P3D
CALSCALE:GREGORIAN
BEGIN:VEVENT
DTSTART:20220819T180000Z
DTEND:20220819T183000Z
X-MICROSOFT-CDO-ALLDAYEVENT:FALSE
SUMMARY:Ribbon Cutting: Scooter's Coffee
DESCRIPTION:Please join us for a Ribbon Cutting for Scooter's Coffee!\n\n\n\nEverything we do is based on the values that we at Scooter's Coffee believe in and live by. The result? A company that recognizes relationships are the foundation of our success\, and at the end of the day\, relationships are what really matter.\n\n\n\nSimply put\, we like and respect one another. Love\, after all\, is among our core values. We're the recipients of it\, and our aim is to share it\, no matter what role we play in the company. Customers love Scooter's Coffee not only for our amazing coffee\, but also the genuine happiness our baristas share with each other and with customers. We see you and care about you.\n\n\n\nCheck out our Menu.
X-ALT-DESC;FMTTYPE=text/html:<span style="font-size:16px\;">Please join us for a Ribbon Cutting for <strong>Scooter&#39\;s Coffee</strong>!<br />\n<br />\n<em>Everything we do is based on the values that we at Scooter&#39\;s Coffee believe in and live by. The result? A company that recognizes relationships are the foundation of our success\, and at the end of the day\, relationships are what really matter.<br />\n<br />\nSimply put\, we like and respect one another. Love\, after all\, is among our core values. We&#39\;re the recipients of it\, and our aim is to share it\, no matter what role we play in the company. Customers love Scooter&#39\;s Coffee not only for our amazing coffee\, but also the genuine happiness our baristas share with each other and with customers. We see you and care about you.</em><br />\n<br />\n<em>Check out our <a href="https://www.scooterscoffee.com/menu"><strong>Menu</strong></a>.</em></span><br />\n&nbsp\;
LOCATION:
UID:e.2112.13651
SEQUENCE:3
DTSTAMP:20260423T073112Z
URL:https://cm.hsvchamber.org/events/details/ribbon-cutting-scooter-s-coffee-13651
END:VEVENT

END:VCALENDAR
