BEGIN:VCALENDAR
VERSION:2.0
PRODID:-//ChamberMaster//Event Calendar 2.0//EN
METHOD:PUBLISH
X-PUBLISHED-TTL:P3D
REFRESH-INTERVAL:P3D
CALSCALE:GREGORIAN
BEGIN:VEVENT
DTSTART:20210505T200000Z
DTEND:20210505T203000Z
X-MICROSOFT-CDO-ALLDAYEVENT:FALSE
SUMMARY:Ribbon Cutting: Restoration Financial Services\, LLC
DESCRIPTION:Join us for a Ribbon Cutting ceremony for Restoration Financial Services!\n\n\n\nBuilding and preserving your personal wealth requires specialized attention. You get one-on-one guidance and a comprehensive financial plan that helps manage risk\, improve performance\, and ensure the growth and longevity of your wealth.\nThere's no time like the present to start planning your financial future. If you're ready to start planning for your retirement years\, call us first. Don't wait until it is too late. We'll help you make sure your retirement years are nothing but smooth sailing ahead.
X-ALT-DESC;FMTTYPE=text/html:<span style="font-size:16px\;">Join us for a Ribbon Cutting ceremony for Restoration Financial Services!<br />\n<br />\nBuilding and preserving your personal wealth requires specialized attention. You get one-on-one guidance and a comprehensive financial plan that helps manage risk\, improve performance\, and ensure the growth and longevity of your wealth.</span>\n<p><span style="font-size:16px\;">There&#39\;s no time like the present to start planning your financial future. If you&#39\;re ready to start planning for your retirement years\, call us first. Don&#39\;t wait until it is too late. We&#39\;ll help you make sure your retirement years are nothing but smooth sailing ahead.</span></p>\n
LOCATION:
UID:e.2112.12316
SEQUENCE:3
DTSTAMP:20260419T192055Z
URL:https://cm.hsvchamber.org/events/details/ribbon-cutting-restoration-financial-services-llc-12316
END:VEVENT

END:VCALENDAR
