BEGIN:VCALENDAR
VERSION:2.0
PRODID:-//ChamberMaster//Event Calendar 2.0//EN
METHOD:PUBLISH
X-PUBLISHED-TTL:P3D
REFRESH-INTERVAL:P3D
CALSCALE:GREGORIAN
BEGIN:VEVENT
DTSTART:20220831T170000Z
DTEND:20220831T173000Z
X-MICROSOFT-CDO-ALLDAYEVENT:FALSE
SUMMARY:Ribbon Cutting: Premier Urgent Care & Family Medicine
DESCRIPTION:Please join us for a Ribbon Cutting for Premier Urgent Care & Family Medicine!\n\n\n\nPremier Urgent Care located in Harvest\, AL is dedicated to providing exceptional\, personalized health care for our patients. Our practice specializes in diseases that affect our patients. We focus on the prevention of these illnesses through wellness care\, as well as treating chronic disorders that may arise. By creating an ongoing personal relationship with our patients\, our practice is able to provide you with a health oriented means of communication throughout your lifetime.\n\n\n\nUtilizing the latest advances in medicine combined with the state-of-the-art techniques\, our goal is to treat our patients with comfort and compassion.
X-ALT-DESC;FMTTYPE=text/html:<span style="font-size:16px\;">Please join us for a Ribbon Cutting for <strong>Premier Urgent Care &amp\; Family Medicine</strong>!<br />\n<br />\n<em>Premier Urgent Care located in Harvest\, AL is dedicated to providing exceptional\, personalized health care for our patients. Our practice specializes in diseases that affect our patients. We focus on the prevention of these illnesses through wellness care\, as well as treating chronic disorders that may arise. By creating an ongoing personal relationship with our patients\, our practice is able to provide you with a health oriented means of communication throughout your lifetime.<br />\n<br />\nUtilizing the latest advances in medicine combined with the state-of-the-art techniques\, our goal is to treat our patients with comfort and compassion. </em></span><br />\n&nbsp\;
LOCATION:
UID:e.2112.13659
SEQUENCE:3
DTSTAMP:20260423T073448Z
URL:https://cm.hsvchamber.org/events/details/ribbon-cutting-premier-urgent-care-family-medicine-13659
END:VEVENT

END:VCALENDAR
