BEGIN:VCALENDAR
VERSION:2.0
PRODID:-//ChamberMaster//Event Calendar 2.0//EN
METHOD:PUBLISH
X-PUBLISHED-TTL:P3D
REFRESH-INTERVAL:P3D
CALSCALE:GREGORIAN
BEGIN:VEVENT
DTSTART:20230412T200000Z
DTEND:20230412T203000Z
X-MICROSOFT-CDO-ALLDAYEVENT:FALSE
SUMMARY:Ribbon Cutting: Pool Scouts of Huntsville
DESCRIPTION:Please join us for a Ribbon Cutting for Pool Scouts of Huntsville!\n\n\n\nPool Scouts of Huntsville is a pillar of the community in the Tennessee Valley. We utilize high-tech procedures and are a perfect fit for the community and the Rocket City. As we know\, Huntsville is a high-tech city that sprawls at the foot of a mountain in north Alabama up to the Tennessee line\, known as the Tennessee Valley. Pool Scouts of Huntsville is proud to serve the area that spans from Cullman over to Guntersville\, all the way up to the state line of Tennessee. As you live in the Tennessee Valley and notice the technological advances of the Rocket City\, you will notice that Pool Scouts of Huntsville has highly trained technicians versed in the latest and greatest equipment and software for pool service.\n\n\n\nWe live by our mission statement "We keep backyard pools clean and safe bringing peace of mind to families and friends to enjoy\," and brand promise "Perfect Pools\, Scout's Honor." This lets our customers know we are committed to caring for their pool. It's important for our customers to know they are trusting a premier pool service and maintenance provider in the Tennessee Valley.
X-ALT-DESC;FMTTYPE=text/html:<span style="font-size:16px\;">Please join us for a Ribbon Cutting for <strong>Pool Scouts of Huntsville</strong>!<br />\n<br />\n<em>Pool Scouts of Huntsville is a pillar of the community in the Tennessee Valley. We utilize high-tech procedures and are a perfect fit for the community and the Rocket City. As we know\, Huntsville is a high-tech city that sprawls at the foot of a mountain in north Alabama up to the Tennessee line\, known as the Tennessee Valley. Pool Scouts of Huntsville is proud to serve the area that spans from Cullman over to Guntersville\, all the way up to the state line of Tennessee. As you live in the Tennessee Valley and notice the technological advances of the Rocket City\, you will notice that Pool Scouts of Huntsville has highly trained technicians versed in the latest and greatest equipment and software for pool service.<br />\n<br />\nWe live by our mission statement &ldquo\;We keep backyard pools clean and safe bringing peace of mind to families and friends to enjoy\,&rdquo\; and brand promise &ldquo\;Perfect Pools\, Scout&rsquo\;s Honor.&rdquo\; This lets our customers know we are committed to caring for their pool. It&rsquo\;s important for our customers to know they are trusting a premier pool service and maintenance provider in the Tennessee Valley. </em></span><br />\n&nbsp\;
LOCATION:Huntsville/Madison County Chamber
UID:e.2112.14119
SEQUENCE:3
DTSTAMP:20260423T215143Z
URL:https://cm.hsvchamber.org/events/details/ribbon-cutting-pool-scouts-of-huntsville-14119
END:VEVENT

END:VCALENDAR
