BEGIN:VCALENDAR
VERSION:2.0
PRODID:-//ChamberMaster//Event Calendar 2.0//EN
METHOD:PUBLISH
X-PUBLISHED-TTL:P3D
REFRESH-INTERVAL:P3D
CALSCALE:GREGORIAN
BEGIN:VEVENT
DTSTART:20230928T163000Z
DTEND:20230928T170000Z
X-MICROSOFT-CDO-ALLDAYEVENT:FALSE
SUMMARY:Ribbon Cutting: PJ'S Coffee of New Orleans - Downtown Huntsville
DESCRIPTION:Please join us for a Ribbon Cutting for PJ's Coffee of New Orleans - Downtown Huntsville!\n\n\n\nPJ's Coffee utilizes only the best quality arabica coffee beans sourced from around the world. This gourmet coffee is small batch roasted in 300 lbs. or less by Roastmaster Felton Jones\, who alone has over 25 years of experience with PJ's Coffee.\n\n\n\nWe strive to deliver a unique coffee experience to all locations\, regardless of if they are in the heart of our home city\, or far-flung across the world. With one step in the door\, you are greeted with the scent of our 100% Arabica beans\, invoking the soul and unique experience of our original location on Maple Street.\n\n\n\nPJ's Coffee of New Orleans was founded in 1978 by Phyllis Jordan\, a pioneer in the coffee industry who embraced high-quality beans\, superior roasting methods\, and a pure passion for the art of coffee-making. Her dedication to coffee quality remains the foundation of our roasting methods\, which is done blocks from the famous French Quarter in New Orleans.
X-ALT-DESC;FMTTYPE=text/html:<span style="font-size:16px\;">Please join us for a Ribbon Cutting for <strong>PJ&#39\;s Coffee of New Orleans</strong> - Downtown Huntsville!<br />\n<br />\n<em>PJ&rsquo\;s Coffee utilizes only the best quality arabica coffee beans sourced from around the world. This gourmet coffee is small batch roasted in 300 lbs. or less by Roastmaster Felton Jones\, who alone has over 25 years of experience with PJ&rsquo\;s Coffee.<br />\n<br />\nWe strive to deliver a unique coffee experience to all locations\, regardless of if they are in the heart of our home city\, or far-flung across the world. With one step in the door\, you are greeted with the scent of our 100% Arabica beans\, invoking the soul and unique experience of our original location on Maple Street.<br />\n<br />\nPJ&rsquo\;s Coffee of New Orleans was founded in 1978 by Phyllis Jordan\, a pioneer in the coffee industry who embraced high-quality beans\, superior roasting methods\, and a pure passion for the art of coffee-making. Her dedication to coffee quality remains the foundation of our roasting methods\, which is done blocks from the famous French Quarter in New Orleans.</em></span><br />\n<br />\n&nbsp\;
LOCATION:Parking available in the parking garage of the Regions Bank Building.
UID:e.2112.16070
SEQUENCE:3
DTSTAMP:20260424T054005Z
URL:https://cm.hsvchamber.org/events/details/ribbon-cutting-pj-s-coffee-of-new-orleans-downtown-huntsville-16070
END:VEVENT

END:VCALENDAR
