BEGIN:VCALENDAR
VERSION:2.0
PRODID:-//ChamberMaster//Event Calendar 2.0//EN
METHOD:PUBLISH
X-PUBLISHED-TTL:P3D
REFRESH-INTERVAL:P3D
CALSCALE:GREGORIAN
BEGIN:VEVENT
DTSTART:20210623T150000Z
DTEND:20210623T153000Z
X-MICROSOFT-CDO-ALLDAYEVENT:FALSE
SUMMARY:Ribbon Cutting: Pet Supplies Plus Huntsville
DESCRIPTION:Join us for a Ribbon Cutting ceremony for Pet Supplies Plus!\n\n\n\nPet Supplies Plus is over 460 stores strong\, with over 30 years of franchise experience in the pet supply business. We've got the friendly\, face-to-face service of your neighborhood pet store combined with tech advancements that make shopping with us fast\, friendly and convenient. Plus\, we are well ahead of the industry standards. Our latest innovation is You Click\, We Fetch    where customers can order their pet food or products online through their local store and are notified when their order is ready for pick up.\n\n\n\nWe perform full-service grooming that includes many packages for bathing\, skin and coat treatments\, and teeth\, ear and paw cleanings. We also have a variety of add-on options.
X-ALT-DESC;FMTTYPE=text/html:<span style="font-size:16px\;">Join us for a Ribbon Cutting ceremony for Pet Supplies Plus!<br />\n<br />\n<em>Pet Supplies Plus is over 460 stores strong\, with over 30 years of franchise experience in the pet supply business. We&rsquo\;ve got the friendly\, face-to-face service of your neighborhood pet store combined with tech advancements that make shopping with us fast\, friendly and convenient. Plus\, we are well ahead of the industry standards. Our latest innovation is You Click\, We Fetch&trade\; &ndash\; where customers can order their pet food or products online through their local store and are notified when their order is ready for pick&nbsp\;up.<br />\n<br />\nWe perform full-service grooming that includes many packages for bathing\, skin and coat treatments\, and teeth\, ear and paw cleanings. We also have a variety of add-on options.</em></span>
LOCATION:
UID:e.2112.12912
SEQUENCE:3
DTSTAMP:20260421T084026Z
URL:https://cm.hsvchamber.org/events/details/ribbon-cutting-pet-supplies-plus-huntsville-12912
END:VEVENT

END:VCALENDAR
