BEGIN:VCALENDAR
VERSION:2.0
PRODID:-//ChamberMaster//Event Calendar 2.0//EN
METHOD:PUBLISH
X-PUBLISHED-TTL:P3D
REFRESH-INTERVAL:P3D
CALSCALE:GREGORIAN
BEGIN:VEVENT
DTSTART:20221130T163000Z
DTEND:20221130T170000Z
X-MICROSOFT-CDO-ALLDAYEVENT:FALSE
SUMMARY:Ribbon Cutting: Peoples Bank of Alabama
DESCRIPTION:Please join us for a Ribbon Cutting for Peoples Bank of Alabama!\n\n\n\nPeoples Bank of Alabama was born in 1977 as Peoples Bank of Holly Pond. Back then the citizens of this community needed a local bank to serve their financial needs - one that understood their specific needs\, wants\, and dreams. We began with a simple mission of putting people first and doing what is right.\n\n\n\nOver the years we've built our reputation on making sure we take the best care of our customers - going above and beyond with dedicated\, friendly\, and compassionate associates who genuinely care about our neighbors.\n\n\n\nWe have built a reputation as a valued business partner to community business owners who need help growing or becoming more efficient. When you do well\, the entire community succeeds - and since we care about the communities we serve\, our goal is to provide superior customer service and accessibility.\n\n\n\nWe are in the banking business because we believe in helping individuals with their financial well-being. Whether it's a home loan to buy a couple's first home\, or a commercial loan to help a business expand\, our passion is helping our neighbors achieve their dreams. That's why we are the people's bank - because we care about people.
X-ALT-DESC;FMTTYPE=text/html:<span style="font-size:16px\;">Please join us for a Ribbon Cutting for <strong>Peoples Bank of Alabama</strong>!</span><br />\n<br />\n<span style="font-size:16px\;"><em>Peoples Bank of Alabama was born in 1977 as Peoples Bank of Holly Pond. Back then the citizens of this community needed a local bank to serve their financial needs - one that understood their specific needs\, wants\, and dreams. We began with a simple mission of putting people first and doing what is right.<br />\n<br />\nOver the years we&rsquo\;ve built our reputation on making sure we take the best care of our customers - going above and beyond with dedicated\, friendly\, and compassionate associates who genuinely care about our neighbors.<br />\n<br />\nWe have built a reputation as a valued business partner to community business owners who need help growing or becoming more efficient. When you do well\, the entire community succeeds - and since we care about the communities we serve\, our goal is to provide superior customer service and accessibility.<br />\n<br />\nWe are in the banking business because we believe in helping individuals with their financial well-being. Whether it&#39\;s a home loan to buy a couple&#39\;s first home\, or a commercial loan to help a business expand\, our passion is helping our neighbors achieve their dreams. That&#39\;s why we are the people&#39\;s bank - because we care about people.</em></span><br />\n&nbsp\;
LOCATION:
UID:e.2112.13738
SEQUENCE:3
DTSTAMP:20260421T054057Z
URL:https://cm.hsvchamber.org/events/details/ribbon-cutting-peoples-bank-of-alabama-13738
END:VEVENT

END:VCALENDAR
