BEGIN:VCALENDAR
VERSION:2.0
PRODID:-//ChamberMaster//Event Calendar 2.0//EN
METHOD:PUBLISH
X-PUBLISHED-TTL:P3D
REFRESH-INTERVAL:P3D
CALSCALE:GREGORIAN
BEGIN:VEVENT
DTSTART:20230413T160000Z
DTEND:20230413T163000Z
X-MICROSOFT-CDO-ALLDAYEVENT:FALSE
SUMMARY:Ribbon Cutting: Penske Truck Leasing
DESCRIPTION:Please join us for a Ribbon Cutting for Penske Truck Leasing!\n\n\n\nPenske Truck Leasing is a partnership of Penske Corporation\, Penske Automotive Group and Mitsui & Co.\, Ltd. A leading global transportation services provider\, Penske operates more than 416\,000 vehicles and serves customers from more than 1\,400 locations. Our product lines include full-service leasing and contract maintenance. Our Penske Truck Rental service\, which is widely recognized for its iconic yellow trucks with blue stripes\, provides both commercial truck rentals and consumer truck rentals in North America. \n\n\n\nOur full-service leasing and contract maintenance solutions keep your fleet running\, your business moving and customers smiling. Partner with Penske to keep your fleet performing and your business moving.
X-ALT-DESC;FMTTYPE=text/html:<span style="font-size:16px\;">Please join us for a Ribbon Cutting for <strong>Penske Truck Leasing</strong>!</span><br />\n<br />\n<em><span style="font-size:16px\;">Penske Truck Leasing is a partnership of Penske Corporation\, Penske Automotive Group and Mitsui &amp\; Co.\, Ltd. A leading global transportation services provider\, Penske operates more than 416\,000 vehicles and serves customers from more than 1\,400 locations. Our product lines include full-service leasing and contract maintenance. Our Penske Truck Rental service\, which is widely recognized for its iconic yellow trucks with blue stripes\, provides both commercial truck rentals and consumer truck rentals in North America. </span></em><br />\n<br />\n<span style="font-size:16px\;"><em>Our full-service leasing and contract maintenance solutions keep your fleet running\, your business moving and customers smiling. Partner with Penske to keep your fleet performing and your business moving.</em></span><br />\n<br />\n&nbsp\;
LOCATION:
UID:e.2112.14123
SEQUENCE:3
DTSTAMP:20260423T215118Z
URL:https://cm.hsvchamber.org/events/details/ribbon-cutting-penske-truck-leasing-14123
END:VEVENT

END:VCALENDAR
