BEGIN:VCALENDAR
VERSION:2.0
PRODID:-//ChamberMaster//Event Calendar 2.0//EN
METHOD:PUBLISH
X-PUBLISHED-TTL:P3D
REFRESH-INTERVAL:P3D
CALSCALE:GREGORIAN
BEGIN:VEVENT
DTSTART:20221201T220000Z
DTEND:20221201T223000Z
X-MICROSOFT-CDO-ALLDAYEVENT:FALSE
SUMMARY:Ribbon Cutting: OSCO | turnerboone
DESCRIPTION:Please join us for a Ribbon Cutting and Grand Opening for OSCO | turnerboone.\n\n\n\nWith locations in Huntsville and Decatur\, OSCO | turnerboone is a Preferred Haworth Dealer servicing north Alabama. OSCO | turnerboone has been helping companies and organizations work smarter by designing offices that inspire since 1967. At OSCO | turnerboone\, it is not only about providing a chair or desk\, it is about partnering with your company to learn about how you work best. Through our proven process\, OSCO | turnerboone experts provide comprehensive solutions for your company   making us far more than just an office furniture supplier.\n\n\n\nOur extensive selection of office furniture\, storage\, seating\, architecture\, technology\, and lighting will transform your space from ordinary   to extraordinary. Whether you are a corporate company\, a healthcare provider\, or even an educational institution\, we customize solutions to fit your specific needs. Our experience in workplace design and human ergonomics is invaluable in helping you increase efficiency and productivity with a smarter\, more effective office environment. We are an authorized Haworth dealer.
X-ALT-DESC;FMTTYPE=text/html:<span style="font-size:16px\;">Please join us for a Ribbon Cutting and Grand Opening for <strong>OSCO | turnerboone</strong>.</span><br />\n<br />\n<span style="font-size:16px\;"><em>With locations in Huntsville and Decatur\, OSCO | turnerboone is a Preferred Haworth Dealer servicing north Alabama. OSCO | turnerboone has been helping companies and organizations work smarter by designing offices that inspire since 1967. At OSCO | turnerboone\, it is not only about providing a chair or desk\, it is about partnering with your company to learn about how you work best. Through our proven process\, OSCO | turnerboone experts provide comprehensive solutions for your company &ndash\; making us far more than just an office furniture supplier.<br />\n<br />\nOur extensive selection of office furniture\, storage\, seating\, architecture\, technology\, and lighting will transform your space from ordinary &ndash\; to extraordinary. Whether you are a corporate company\, a healthcare provider\, or even an educational institution\, we customize solutions to fit your specific needs. Our experience in workplace design and human ergonomics is invaluable in helping you increase efficiency and productivity with a smarter\, more effective office environment. We are an authorized Haworth dealer.</em></span><br />\n&nbsp\;
LOCATION:Lincoln Mill - park anywhere in lot.
UID:e.2112.13712
SEQUENCE:3
DTSTAMP:20260421T053616Z
URL:https://cm.hsvchamber.org/events/details/ribbon-cutting-osco-turnerboone-13712
END:VEVENT

END:VCALENDAR
