BEGIN:VCALENDAR
VERSION:2.0
PRODID:-//ChamberMaster//Event Calendar 2.0//EN
METHOD:PUBLISH
X-PUBLISHED-TTL:P3D
REFRESH-INTERVAL:P3D
CALSCALE:GREGORIAN
BEGIN:VEVENT
DTSTART:20150917T220000Z
DTEND:20150918T000000Z
X-MICROSOFT-CDO-ALLDAYEVENT:FALSE
SUMMARY:Ribbon Cutting & Open House: Trident Technologies
DESCRIPTION:Trident Technologies has expanded and relocated! Join us for their Ribbon Cutting ceremony & Open House.
X-ALT-DESC;FMTTYPE=text/html:<span style="font-size:14px\;"><span style="font-family: arial\;">Trident Technologies has expanded and relocated! Join us for their&nbsp\;Ribbon Cutting ceremony &amp\; Open House.&nbsp\;</span></span>
LOCATION:310 Bridge Street\, Suite 350 Huntsville\, AL 35806
UID:e.2112.3335
SEQUENCE:3
DTSTAMP:20260419T191701Z
URL:https://cm.hsvchamber.org/events/details/ribbon-cutting-open-house-trident-technologies-09-17-2015-3335
END:VEVENT

END:VCALENDAR
