BEGIN:VCALENDAR
VERSION:2.0
PRODID:-//ChamberMaster//Event Calendar 2.0//EN
METHOD:PUBLISH
X-PUBLISHED-TTL:P3D
REFRESH-INTERVAL:P3D
CALSCALE:GREGORIAN
BEGIN:VEVENT
DTSTART:20220519T210000Z
DTEND:20220519T213000Z
X-MICROSOFT-CDO-ALLDAYEVENT:FALSE
SUMMARY:Ribbon Cutting & Open House: ACCURX Infusion
DESCRIPTION:Please join us for a Ribbon Cutting & Open House for ACCURX Infusion!\n\n\n\nPalmetto Infusion\, a Southeastern ambulatory and home infusion company\, is in the business of restoring health and hope to immunocompromised and chronically ill patients who rely on infusion and injectable treatments throughout each of its 25 locations. One of the first ambulatory infusion clinics in the country upon its founding in 1999\, the company continues to experience exponential growth and today announces its expansion of patient care into its fourth state of Alabama.\n\n\n\nOn March 1\, 2021\, Palmetto Infusion partnered with the Birmingham-based infusion clinic\, AccuRX Infusion Center. Founded in 2017 by pharmacists David Bush and Todd Carter\, AccuRX established an infusion clinic for patients with chronic illness. This merger marks Palmetto Infusion's first clinic in Alabama\, and plants a flag in a city where its administrative reimbursement offices are already located.\n\n\n\nBased on AccuRX's recognition and reputation for patient care in the Alabama market\, future locations in the state will operate under the AccuRX name\, while incorporating Palmetto Infusion's additional support\, philosophy\, and approach to care. Under this approach\, local referring physicians\, nurses\, and staff can rely on the management of tasks like pre-authorizations and compliance reporting\, and gain access to a greater variety of treatments for patients in specialty practice areas such as neurology\, gastroenterology\, rheumatology\, pulmonology\, asthma and allergy\, dermatology\, and more.
X-ALT-DESC;FMTTYPE=text/html:<span style="font-size:16px\;">Please join us for a Ribbon Cutting &amp\; Open House for ACCURX Infusion!</span><br />\n<br />\n<em><span style="font-size:14px\;">Palmetto Infusion\, a Southeastern ambulatory and home infusion company\, is in the business of restoring health and hope to immunocompromised and chronically ill patients who rely on infusion and injectable treatments throughout each of its 25 locations. One of the first ambulatory infusion clinics in the country upon its founding in 1999\, the company continues to experience exponential growth and today announces its expansion of patient care into its fourth state of Alabama.<br />\n<br />\nOn March 1\, 2021\, Palmetto Infusion partnered with the Birmingham-based infusion clinic\, AccuRX Infusion Center. Founded in 2017 by pharmacists David Bush and Todd Carter\, AccuRX established an infusion clinic for patients with chronic illness. This merger marks Palmetto Infusion&rsquo\;s first clinic in Alabama\, and plants a flag in a city where its administrative reimbursement offices are already located.<br />\n<br />\nBased on AccuRX&rsquo\;s recognition and reputation for patient care in the Alabama market\, future locations in the state will operate under the AccuRX name\, while incorporating Palmetto Infusion&rsquo\;s additional support\, philosophy\, and approach to care. Under this approach\, local referring physicians\, nurses\, and staff can rely on the management of tasks like pre-authorizations and compliance reporting\, and gain access to a greater variety of treatments for patients in specialty practice areas such as neurology\, gastroenterology\, rheumatology\, pulmonology\, asthma and allergy\, dermatology\, and more.</span></em>
LOCATION:
UID:e.2112.13581
SEQUENCE:3
DTSTAMP:20260424T180855Z
URL:https://cm.hsvchamber.org/events/details/ribbon-cutting-open-house-accurx-infusion-13581
END:VEVENT

END:VCALENDAR
