BEGIN:VCALENDAR
VERSION:2.0
PRODID:-//ChamberMaster//Event Calendar 2.0//EN
METHOD:PUBLISH
X-PUBLISHED-TTL:P3D
REFRESH-INTERVAL:P3D
CALSCALE:GREGORIAN
BEGIN:VEVENT
DTSTART:20220805T210000Z
DTEND:20220805T213000Z
X-MICROSOFT-CDO-ALLDAYEVENT:FALSE
SUMMARY:Ribbon Cutting: Ngenius\, LLC
DESCRIPTION:Please join us for a Ribbon Cutting for Ngenius\, LLC!\n\n\n\nWhen considering a tutoring service for your student\, the team at Ngenius Tutoring encourages you to give us a call to learn more about our approach to academic development. At our learning center\, we specialize in individually-tailored tutoring that focuses on boosting self-confidence while bolstering skills across the curriculum. Our methods have worked for our satisfied clients\, and we're confident that you'll be impressed by our results.\n\n\n\nWe believe that tutoring should compliment a child's education\, and not create unnecessary conflicts. That's why we match our lessons to the students' curriculum  not our own. We also provide a broad range of scheduling options for your convenience.
X-ALT-DESC;FMTTYPE=text/html:<span style="font-size:16px\;">Please join us for a Ribbon Cutting for <strong>Ngenius\, LLC</strong>!</span><br />\n<br />\n<span style="font-size:16px\;"><em>When considering a tutoring service for your student\, the team at Ngenius Tutoring encourages you to give us a call to learn more about our approach to academic development. At our learning center\, we specialize in individually-tailored tutoring that focuses on boosting self-confidence while bolstering skills across the curriculum. Our methods have worked for our satisfied clients\, and we&#39\;re confident that you&#39\;ll be impressed by our results.<br />\n<br />\nWe believe that tutoring should compliment a child&#39\;s education\, and not create unnecessary conflicts. That&#39\;s why we match our lessons to the students&#39\; curriculum&sbquo\; not our own. We also provide a broad range of scheduling options for your convenience.</em></span><br />\n&nbsp\;
LOCATION:
UID:e.2112.13640
SEQUENCE:3
DTSTAMP:20260423T091811Z
URL:https://cm.hsvchamber.org/events/details/ribbon-cutting-ngenius-llc-13640
END:VEVENT

END:VCALENDAR
