BEGIN:VCALENDAR
VERSION:2.0
PRODID:-//ChamberMaster//Event Calendar 2.0//EN
METHOD:PUBLISH
X-PUBLISHED-TTL:P3D
REFRESH-INTERVAL:P3D
CALSCALE:GREGORIAN
BEGIN:VEVENT
DTSTART:20221116T223000Z
DTEND:20221116T230000Z
X-MICROSOFT-CDO-ALLDAYEVENT:FALSE
SUMMARY:Ribbon Cutting: Max Health
DESCRIPTION:Please join us for a Ribbon Cutting for Max Health!\n\n\n\nMax Health is a chiropractic & natural health center located in Huntsville\, Ala. We specialize in spinal corrective care\, prenatal care\, and neuropathy. Our sole goal is to help you heal from whatever is ailing you\, completely naturally\, and get you back to doing all of the things you love to do.\n\n\n\nWe are a brand new\, state-of-the-art health facility\, but our formula & results are well established. Before relocating back to the southeast\, our doctors owned & operated Amplify Chiropractic in Littleton\, CO (a suburb of Denver). This clinic was awarded "Best Chiropractor" in both Littleton & the entire city of Denver in 2020\, 2021\, & 2022! Now it's Huntsville's turn to see what the rave is all about!\n\n\n\nFrom the mountains to the trails to the lakes to the great restaurants & venues\, there is simply too much to enjoy in the Rocket City for you to be watching from the sidelines. Schedule an appointment with us today & let us see how we can help get your health & your life back on the track you want it to be!
X-ALT-DESC;FMTTYPE=text/html:<span style="font-size:16px\;">Please join us for a Ribbon Cutting for <strong>Max Health</strong>!<br />\n<br />\n<em>Max Health is a chiropractic &amp\; natural health center located in Huntsville\, Ala. We specialize in spinal corrective care\, prenatal care\, and neuropathy. Our sole goal is to help you heal from whatever is ailing you\, completely naturally\, and get you back to doing all of the things you love to do.<br />\n<br />\nWe are a brand new\, state-of-the-art health facility\, but our formula &amp\; results are well established. Before relocating back to the southeast\, our doctors owned &amp\; operated Amplify Chiropractic in Littleton\, CO (a suburb of Denver). This clinic was awarded &quot\;Best Chiropractor&quot\; in both Littleton &amp\; the entire city of Denver in 2020\, 2021\, &amp\; 2022! Now it&#39\;s Huntsville&#39\;s turn to see what the rave is all about!<br />\n<br />\nFrom the mountains to the trails to the lakes to the great restaurants &amp\; venues\, there is simply too much to enjoy in the Rocket City for you to be watching from the sidelines. Schedule an appointment with us today &amp\; let us see how we can help get your health &amp\; your life back on the track you want it to be!</em></span><br />\n&nbsp\;
LOCATION:Parking lot available for parking.
UID:e.2112.13729
SEQUENCE:3
DTSTAMP:20260421T053604Z
URL:https://cm.hsvchamber.org/events/details/ribbon-cutting-max-health-13729
END:VEVENT

END:VCALENDAR
