BEGIN:VCALENDAR
VERSION:2.0
PRODID:-//ChamberMaster//Event Calendar 2.0//EN
METHOD:PUBLISH
X-PUBLISHED-TTL:P3D
REFRESH-INTERVAL:P3D
CALSCALE:GREGORIAN
BEGIN:VEVENT
DTSTART:20230419T200000Z
DTEND:20230419T203000Z
X-MICROSOFT-CDO-ALLDAYEVENT:FALSE
SUMMARY:Ribbon Cutting: Mason Dixon Bakery & Bistro
DESCRIPTION:Please join us for a Ribbon Cutting for Mason Dixon Bakery & Bistro!\n\n\n\nMason Dixon is a destination for quality\, hand-crafted ingredients. From the bakery to the bistro\, every item is prepared in-house and made fresh daily.\n\n\n\nAt Mason Dixon\, every customer is part of our family. We know your name and your child's favorite cupcake. We cook your food with the same quality ingredients we feed to our own children. We use grass fed meat\, pastured pork and local eggs. We prepare all meats in house\, including curing and smoking. We make our salad dressings and vinegars to pair perfectly with a dish. We use no preservatives and only ingredients you can grow\, hunt\, or farm. We bake fresh bread every day and pride ourselves in our custom cakes and catering. Whatever your need\, we are here to help. We cannot wait to have you become part of our family!
X-ALT-DESC;FMTTYPE=text/html:<span style="font-size:16px\;">Please join us for a Ribbon Cutting for <strong>Mason Dixon Bakery &amp\; Bistro</strong>!<br />\n<br />\n<em>Mason Dixon is a destination for quality\, hand-crafted ingredients. From the bakery to the bistro\, every item is prepared in-house and made fresh daily.<br />\n<br />\nAt Mason Dixon\, every customer is part of our family. We know your name and your child&rsquo\;s favorite cupcake. We cook your food with the same quality ingredients we feed to our own children. We use grass fed meat\, pastured pork and local eggs. We prepare all meats in house\, including curing and smoking. We make our salad dressings and vinegars to pair perfectly with a dish. We use no preservatives and only ingredients you can grow\, hunt\, or farm. We bake fresh bread every day and pride ourselves in our custom cakes and catering. Whatever your need\, we are here to help. We cannot wait to have you become part of our family!</em></span><br />\n&nbsp\;
LOCATION:
UID:e.2112.14128
SEQUENCE:3
DTSTAMP:20260423T214849Z
URL:https://cm.hsvchamber.org/events/details/ribbon-cutting-mason-dixon-bakery-bistro-14128
END:VEVENT

END:VCALENDAR
