BEGIN:VCALENDAR
VERSION:2.0
PRODID:-//ChamberMaster//Event Calendar 2.0//EN
METHOD:PUBLISH
X-PUBLISHED-TTL:P3D
REFRESH-INTERVAL:P3D
CALSCALE:GREGORIAN
BEGIN:VEVENT
DTSTART:20150729T150000Z
DTEND:20150729T170000Z
X-MICROSOFT-CDO-ALLDAYEVENT:FALSE
SUMMARY:Ribbon Cutting: Lizzy B's Bakery & Deli\, LLC
DESCRIPTION:Ribbon Cutting Ceremony will begin at 10 a.m.
X-ALT-DESC;FMTTYPE=text/html:<br />\n<span style="font-size:14px\;"><span style="font-family: arial\;">Ribbon Cutting Ceremony will begin at 10 a.m.</span></span>
LOCATION:7900 Bailey Cove Road Huntsville\, AL 35802
UID:e.2112.3195
SEQUENCE:3
DTSTAMP:20260419T160243Z
URL:https://cm.hsvchamber.org/events/details/ribbon-cutting-lizzy-b-s-bakery-deli-llc-07-29-2015-3195
END:VEVENT

END:VCALENDAR
