BEGIN:VCALENDAR
VERSION:2.0
PRODID:-//ChamberMaster//Event Calendar 2.0//EN
METHOD:PUBLISH
X-PUBLISHED-TTL:P3D
REFRESH-INTERVAL:P3D
CALSCALE:GREGORIAN
BEGIN:VEVENT
DTSTART:20260513T143000Z
DTEND:20260513T150000Z
X-MICROSOFT-CDO-ALLDAYEVENT:FALSE
SUMMARY:Ribbon Cutting: Kingdom Heights Preparatory School
DESCRIPTION:Join us for a Ribbon Cutting celebrating Kingdom Heights Preparatory School!\n\n\n\nAt Kingdom Heights Preparatory School\, we believe the time has come for an idea that transforms education\, faith\, and leadership in Huntsville. While we may not be able to reform the entire education system\, we are uniquely positioned to form and fortify the minds of the next generation of Christ-centered leaders\, equipping them to impact every sphere of society   from space and technology to government\, business\, and the arts.\n\n\n\nWe are a Christ-centered academic community that empowers students to fully realize their God-given potential through rigorous academic programs\, comprehensive support\, and experiential learning opportunities.
X-ALT-DESC;FMTTYPE=text/html:<br />\n<span style="font-size:16px\;">Join us for a Ribbon Cutting celebrating <strong>Kingdom Heights Preparatory School</strong>!<br />\n<br />\n<em>At Kingdom Heights Preparatory School\, we believe the time has come for an idea that transforms education\, faith\, and leadership in Huntsville. While we may not be able to reform the entire education system\, we are uniquely positioned to form and fortify the minds of the next generation of Christ-centered leaders\, equipping them to impact every sphere of society &ndash\; from space and technology to government\, business\, and the arts.<br />\n<br />\nWe are a Christ-centered academic community that empowers students to fully realize their God-given potential through rigorous academic programs\, comprehensive support\, and experiential learning opportunities.</em></span><br />\n&nbsp\;
LOCATION:Plenty of parking is available on-site.
UID:e.2112.18117
SEQUENCE:3
DTSTAMP:20260423T055458Z
URL:https://cm.hsvchamber.org/events/details/ribbon-cutting-kingdom-heights-preparatory-school-18117
END:VEVENT

END:VCALENDAR
