BEGIN:VCALENDAR
VERSION:2.0
PRODID:-//ChamberMaster//Event Calendar 2.0//EN
METHOD:PUBLISH
X-PUBLISHED-TTL:P3D
REFRESH-INTERVAL:P3D
CALSCALE:GREGORIAN
BEGIN:VEVENT
DTSTART:20151014T160000Z
DTEND:20151014T180000Z
X-MICROSOFT-CDO-ALLDAYEVENT:FALSE
SUMMARY:Ribbon Cutting: Huntsville VA Medical Clinic
DESCRIPTION:Ribbon Cutting Ceremony \n\nHuntsville VA Medical Clinic Ribbon Cutting\n\n\n\nPress Release
X-ALT-DESC;FMTTYPE=text/html:<br />\n<span style="font-size:14px\;"><span style="font-family: arial\;">Ribbon Cutting Ceremony&nbsp\;<br />\nHuntsville&nbsp\;VA Medical Clinic Ribbon Cutting</span></span><br />\n<br />\n<a href="http://cm.hsvchamber.org/news/details/new-huntsville-va-clinic-ribbon-cutting-ceremony">Press Release</a>&nbsp\;
LOCATION:500 Markaview Road NW Huntsville\, AL 35805
UID:e.2112.3261
SEQUENCE:3
DTSTAMP:20260419T211842Z
URL:https://cm.hsvchamber.org/events/details/ribbon-cutting-huntsville-va-medical-clinic-10-14-2015-3261
END:VEVENT

END:VCALENDAR
