BEGIN:VCALENDAR
VERSION:2.0
PRODID:-//ChamberMaster//Event Calendar 2.0//EN
METHOD:PUBLISH
X-PUBLISHED-TTL:P3D
REFRESH-INTERVAL:P3D
CALSCALE:GREGORIAN
BEGIN:VEVENT
DTSTART:20230918T170000Z
DTEND:20230918T173000Z
X-MICROSOFT-CDO-ALLDAYEVENT:FALSE
SUMMARY:Ribbon Cutting: Huntsville Learning Center
DESCRIPTION:Please join us for a Ribbon Cutting for Huntsville Learning Center!
X-ALT-DESC;FMTTYPE=text/html:<span style="font-size:16px\;">Please join us for a Ribbon Cutting for <strong>Huntsville Learning Center!</strong></span>
LOCATION:Parking in rear parking lot.
UID:e.2112.16064
SEQUENCE:3
DTSTAMP:20260424T053546Z
URL:https://cm.hsvchamber.org/events/details/ribbon-cutting-huntsville-learning-center-16064
END:VEVENT

END:VCALENDAR
