BEGIN:VCALENDAR
VERSION:2.0
PRODID:-//ChamberMaster//Event Calendar 2.0//EN
METHOD:PUBLISH
X-PUBLISHED-TTL:P3D
REFRESH-INTERVAL:P3D
CALSCALE:GREGORIAN
BEGIN:VEVENT
DTSTART:20260602T210000Z
DTEND:20260602T213000Z
X-MICROSOFT-CDO-ALLDAYEVENT:FALSE
SUMMARY:Ribbon Cutting: Homewood Suites Huntsville Village of Providence
DESCRIPTION:Join us for a Ribbon Cutting as we celebrate with our member\, Homewood Suites Huntsville Village of Providence!\n\n\n\nSurrounded by shopping\, restaurants\, and apartments in the Village of Providence   located off of Highway 72 allows easy access to Redstone Arsenal\, The University of Alabama in Huntsville\, and Cummings Research Park. Enjoy an afternoon at the U.S. Space & Rocket Center or an event at The Orion Amphitheater\, just 10 minutes away. MidCity District is five minutes from our hotel.
X-ALT-DESC;FMTTYPE=text/html:<span style="font-size:16px\;">Join us for a Ribbon Cutting as we celebrate with our member\, <strong>Homewood Suites Huntsville Village of Providence</strong>!<br />\n<br />\n<em>Surrounded by shopping\, restaurants\, and apartments in the Village of Providence &ndash\; located off of Highway 72 allows easy access to Redstone Arsenal\, The University of Alabama in Huntsville\, and Cummings Research Park. Enjoy an afternoon at the U.S. Space &amp\; Rocket Center or an event at The Orion Amphitheater\, just 10 minutes away. MidCity District is five minutes from our hotel.</em></span><br />\n&nbsp\;
LOCATION:Complimentary shared parking
UID:e.2112.18553
SEQUENCE:3
DTSTAMP:20260423T054935Z
URL:https://cm.hsvchamber.org/events/details/ribbon-cutting-homewood-suites-huntsville-village-of-providence-18553
END:VEVENT

END:VCALENDAR
