BEGIN:VCALENDAR
VERSION:2.0
PRODID:-//ChamberMaster//Event Calendar 2.0//EN
METHOD:PUBLISH
X-PUBLISHED-TTL:P3D
REFRESH-INTERVAL:P3D
CALSCALE:GREGORIAN
BEGIN:VEVENT
DTSTART:20260527T160000Z
DTEND:20260527T163000Z
X-MICROSOFT-CDO-ALLDAYEVENT:FALSE
SUMMARY:Ribbon Cutting: Homewatch CareGivers of Huntsville
DESCRIPTION:Join us for a Ribbon Cutting as we celebrate with our member\, Homewatch CareGivers of Huntsville!\n\n\n\nAt Homewatch CareGivers\, we go beyond traditional caregiving   our mission is to redefine home care by delivering an unmatched level of service and reliability. Families across Huntsville trust us because we don't just meet expectations   we exceed them.\n\n\n\nHome care services help individuals maintain their independence in a safe\, familiar place. Our trained in-home caregivers assist with day-to-day tasks\, build strong bonds\, and make sure friends and family are aware of changing conditions   and the bright spots of each day.\n\n\n\nHomewatch CareGivers provides in-home care on a weekly\, daily\, or 24-hour basis\, but our teams can also assist with individuals of any age\, ability or condition. Get an extra set of hands around the house after surgery or welcoming a new family member. Our trained\, background-checked\, and insured caregivers are always ready to help.
X-ALT-DESC;FMTTYPE=text/html:<span style="font-size:16px\;">Join us for a Ribbon Cutting as we celebrate with our member\, <strong>Homewatch CareGivers of Huntsville</strong>!</span><br />\n<br />\n<em><span style="font-size:16px\;">At Homewatch CareGivers\, we go beyond traditional caregiving &ndash\; our mission is to redefine home care by delivering an unmatched level of service and reliability. Families across Huntsville trust us because we don&rsquo\;t just meet expectations &ndash\; we exceed them.<br />\n<br />\nHome care services help individuals maintain their independence in a safe\, familiar place. Our trained in-home caregivers assist with day-to-day tasks\, build strong bonds\, and make sure friends and family are aware of changing conditions &ndash\; and the bright spots of each day.<br />\n<br />\nHomewatch CareGivers provides in-home care on a weekly\, daily\, or 24-hour basis\, but our teams can also assist with individuals of any age\, ability or condition. Get an extra set of hands around the house after surgery or welcoming a new family member. Our trained\, background-checked\, and insured caregivers are always ready to help.</span></em><br />\n&nbsp\;
LOCATION:Parking available on-site.
UID:e.2112.18578
SEQUENCE:3
DTSTAMP:20260423T054938Z
URL:https://cm.hsvchamber.org/events/details/ribbon-cutting-homewatch-caregivers-of-huntsville-18578
END:VEVENT

END:VCALENDAR
