BEGIN:VCALENDAR
VERSION:2.0
PRODID:-//ChamberMaster//Event Calendar 2.0//EN
METHOD:PUBLISH
X-PUBLISHED-TTL:P3D
REFRESH-INTERVAL:P3D
CALSCALE:GREGORIAN
BEGIN:VEVENT
DTSTART:20260430T211500Z
DTEND:20260430T214500Z
X-MICROSOFT-CDO-ALLDAYEVENT:FALSE
SUMMARY:Ribbon Cutting: Holiday Inn Express Huntsville Northeast
DESCRIPTION:Join us for a Ribbon Cutting as we celebrate with our member\, Holiday Inn Express Huntsville Northeast!\n\n\n\nThe brand new Holiday Inn Express & Suites in northeast Huntsville offers travelers the ideal combination of convenience\, comfort\, and value. Whether you're visiting for business\, leisure\, or family travel\, our hotel delivers everything you need for a seamless stay.\n\n\n\nOur spacious guest rooms and suites feature plush beds with premium linens\, complimentary Wi-Fi\, a large work desk\, and a Keurig coffee maker. When you stay with us you will enjoy our Complimentary Express Start Breakfast Bar\, the 24-hour Fitness Center\, Outdoor Pool\, Business Center\, Complimentary parking and Guest Laundry Facilities. We also offer a board room for small gatherings. Our hotel is a favorite among government and military contractors\, corporate travelers\, sports teams and social gatherings such as family reunions and weddings.
X-ALT-DESC;FMTTYPE=text/html:<span style="font-size:16px\;">Join us for a Ribbon Cutting as we celebrate with our member\, <strong>Holiday Inn Express Huntsville Northeast</strong>!<br />\n<br />\n<em>The brand new Holiday Inn Express &amp\; Suites in northeast Huntsville offers travelers the ideal combination of convenience\, comfort\, and value. Whether you&rsquo\;re visiting for business\, leisure\, or family travel\, our hotel delivers everything you need for a seamless stay.<br />\n<br />\nOur spacious guest rooms and suites feature plush beds with premium linens\, complimentary Wi-Fi\, a large work desk\, and a Keurig coffee maker. When you stay with us you will enjoy our Complimentary Express Start Breakfast Bar\, the 24-hour Fitness Center\, Outdoor Pool\, Business Center\, Complimentary parking and Guest Laundry Facilities. We also offer a board room for small gatherings. Our hotel is a favorite among government and military contractors\, corporate travelers\, sports teams and social gatherings such as family reunions and weddings.</em></span><br />\n&nbsp\;
LOCATION:Parking available on-site.
UID:e.2112.18406
SEQUENCE:3
DTSTAMP:20260422T203358Z
URL:https://cm.hsvchamber.org/events/details/ribbon-cutting-holiday-inn-express-huntsville-northeast-18406
END:VEVENT

END:VCALENDAR
