BEGIN:VCALENDAR
VERSION:2.0
PRODID:-//ChamberMaster//Event Calendar 2.0//EN
METHOD:PUBLISH
X-PUBLISHED-TTL:P3D
REFRESH-INTERVAL:P3D
CALSCALE:GREGORIAN
BEGIN:VEVENT
DTSTART:20230511T163000Z
DTEND:20230511T170000Z
X-MICROSOFT-CDO-ALLDAYEVENT:FALSE
SUMMARY:Ribbon Cutting: High Point Climbing & Fitness - Lincoln Mill
DESCRIPTION:Please join us for a Ribbon Cutting for High Point Climbing & Fitness - Lincoln Mill!\n\n\n\nCome check out everything we have to offer at Lincoln Mill. Our 11\,000-square-foot facility has walls up to 16 ft. tall as well as state-of-the-art adjustable training walls. Lincoln Mill is a bouldering facility. In accordance with High Point rules\, that means Lincoln Mill is open to climbers 14 and older.
X-ALT-DESC;FMTTYPE=text/html:<span style="font-size:16px\;">Please join us for a Ribbon Cutting for <strong>High Point Climbing &amp\; Fitness - Lincoln Mill</strong>!</span><br />\n<br />\n<span style="font-size:16px\;">Come check out everything we have to offer at Lincoln Mill. Our 11\,000-square-foot facility has walls up to 16 ft. tall as well as state-of-the-art adjustable training walls. Lincoln Mill is a bouldering facility. In accordance with High Point rules\, that means Lincoln Mill is open to climbers 14 and older. </span><br />\n&nbsp\;
LOCATION:
UID:e.2112.14353
SEQUENCE:3
DTSTAMP:20260423T233016Z
URL:https://cm.hsvchamber.org/events/details/ribbon-cutting-high-point-climbing-fitness-lincoln-mill-14353
END:VEVENT

END:VCALENDAR
