BEGIN:VCALENDAR
VERSION:2.0
PRODID:-//ChamberMaster//Event Calendar 2.0//EN
METHOD:PUBLISH
X-PUBLISHED-TTL:P3D
REFRESH-INTERVAL:P3D
CALSCALE:GREGORIAN
BEGIN:VEVENT
DTSTART:20220721T210000Z
DTEND:20220721T213000Z
X-MICROSOFT-CDO-ALLDAYEVENT:FALSE
SUMMARY:Ribbon Cutting: Goodwyn Mills Cawood\, LLC
DESCRIPTION:Please join us for a Ribbon Cutting for Goodwyn Mills Cawood\, LLC!\n\n\n\nGoodwyn Mills Cawood (GMC) is one of the largest architecture and engineering firms in the Southeast\, with offices located throughout Alabama\, Florida\, Georgia\, Louisiana\, South Carolina and Tennessee. Whether designing schools\, parks\, hospitals and other commercial developments\, or providing clean water\, safe streets and restoring resilient environments\, GMC takes great pride in serving our communities through the transformative work we do.\n\n\n\nEvery project is guided by the foundational concept that communities are built by people\, not companies\, and we strive to serve our communities with quality\, integrity\, creativity and care. One of the Southeast's most comprehensive multi-disciplined firms\, GMC is equipped to provide all the services associated with architecture\, interior design\, civil engineering\, environmental services\, landscape architecture\, planning\, transportation engineering\, geotechnical engineering\, electrical engineering\, surveying and disaster recovery.
X-ALT-DESC;FMTTYPE=text/html:<span style="font-size:16px\;">Please join us for a Ribbon Cutting for Goodwyn Mills Cawood\, LLC!<br />\n<br />\n<em>Goodwyn Mills Cawood (GMC) is one of the largest architecture and engineering firms in the Southeast\, with offices located throughout Alabama\, Florida\, Georgia\, Louisiana\, South Carolina and Tennessee. Whether designing schools\, parks\, hospitals and other commercial developments\, or providing clean water\, safe streets and restoring resilient environments\, GMC takes great pride in serving our communities through the transformative work we do.<br />\n<br />\nEvery project is guided by the foundational concept that communities are built by people\, not companies\, and we strive to serve our communities with quality\, integrity\, creativity and care. One of the Southeast&rsquo\;s most comprehensive multi-disciplined firms\, GMC is equipped to provide all the services associated with architecture\, interior design\, civil engineering\, environmental services\, landscape architecture\, planning\, transportation engineering\, geotechnical engineering\, electrical engineering\, surveying and disaster recovery.</em></span><br />\n&nbsp\;
LOCATION:
UID:e.2112.13603
SEQUENCE:3
DTSTAMP:20260421T103447Z
URL:https://cm.hsvchamber.org/events/details/ribbon-cutting-goodwyn-mills-cawood-llc-13603
END:VEVENT

END:VCALENDAR
