BEGIN:VCALENDAR
VERSION:2.0
PRODID:-//ChamberMaster//Event Calendar 2.0//EN
METHOD:PUBLISH
X-PUBLISHED-TTL:P3D
REFRESH-INTERVAL:P3D
CALSCALE:GREGORIAN
BEGIN:VEVENT
DTSTART:20260408T190000Z
DTEND:20260408T193000Z
X-MICROSOFT-CDO-ALLDAYEVENT:FALSE
SUMMARY:Ribbon Cutting: Gone for Good & Stored for Good Huntsville
DESCRIPTION:Join us as we celebrate Gone for Good & Stored for Good Huntsville with a Ribbon Cutting Celebration!\n\n\n\nGone For Good isn't just a premier document and e-waste solution we're a mission with purpose. Since 2006\, we've created meaningful employment for adults with intellectual and physical disabilities\, providing them independence\, dignity\, and opportunity. When you choose us\, your business helps provide paychecks with purpose while protecting the planet we save over 18\,000 trees annually through our recycling efforts.\n\n\n\nYour company's security is our top priority. Gone For Good is NAID AAA Certified\, the highest certification available for secure document destruction companies. Our certification requires all employees to pass criminal background checks\, drug screens and receive training in maintaining confidentiality. Our facility and equipment must pass annual and unannounced inspections.\n\n\nStored For Good provides businesses with a secure\, reliable place to store their critical documents - while creating meaningful employment opportunities for adults with disabilities. We are committed to security\, compliance\, and social impact. With our storage and scanning facility\, we offer document pickup\, secure storage\, scanning\, and cloud-based access\, ensuring that your important files are always safe and within reach.\n\n\n\nJoin us in making our community stronger by supporting employment that transforms lives.
X-ALT-DESC;FMTTYPE=text/html:<br />\n<span style="font-size:16px\;">Join us as we celebrate <strong>Gone for Good &amp\; Stored for Good Huntsville</strong>&nbsp\;with a Ribbon Cutting Celebration!<br />\n<br />\n<em>Gone For Good isn&#39\;t just a premier document and e-waste solution&mdash\;we&#39\;re a mission with purpose. Since 2006\, we&#39\;ve created meaningful employment for adults with intellectual and physical disabilities\, providing them independence\, dignity\, and opportunity. When you choose us\, your business helps provide paychecks with purpose while protecting the planet&mdash\;we save over 18\,000 trees annually through our recycling efforts.<br />\n<br />\nYour company&rsquo\;s security is our top priority. Gone For Good is NAID AAA Certified\, the highest certification available for secure document destruction companies. Our certification requires all employees to pass criminal background checks\, drug screens and receive training in maintaining confidentiality. Our facility and equipment must pass annual and unannounced inspections.</em></span>\n<div><br />\n<span style="font-size:16px\;"><em>Stored For Good provides businesses with a secure\, reliable place to store their critical documents - while creating meaningful employment opportunities for adults with disabilities. We are committed to security\, compliance\, and social impact. With our storage and scanning facility\, we offer document pickup\, secure storage\, scanning\, and cloud-based access\, ensuring that your important files are always safe and within reach.<br />\n<br />\nJoin us in making our community stronger by supporting employment that transforms lives.</em></span></div>\n
LOCATION:
UID:e.2112.18144
SEQUENCE:3
DTSTAMP:20260422T203336Z
URL:https://cm.hsvchamber.org/events/details/ribbon-cutting-gone-for-good-stored-for-good-huntsville-18144
END:VEVENT

END:VCALENDAR
