BEGIN:VCALENDAR
VERSION:2.0
PRODID:-//ChamberMaster//Event Calendar 2.0//EN
METHOD:PUBLISH
X-PUBLISHED-TTL:P3D
REFRESH-INTERVAL:P3D
CALSCALE:GREGORIAN
BEGIN:VEVENT
DTSTART:20230301T170000Z
DTEND:20230301T173000Z
X-MICROSOFT-CDO-ALLDAYEVENT:FALSE
SUMMARY:Ribbon Cutting: Gardens of Hazel Green Assisted Living
DESCRIPTION:Please join us for a Ribbon Cutting for Gardens of Hazel Green Assisted Living!\n\n\n\nNestled in a growing neighborhood outside of Huntsville\, the Gardens of Hazel Green Assisted Living offers a quiet\, relaxed lifestyle designed for health and happiness. From our cozy apartment living and peaceful outdoor spaces\, to our friendly and passionate caregivers\, you will enjoy living here! Everyone who calls our community home receives individual care and personalized assistance.\n\n\n\nWhat families love the most about the Gardens of Hazel Green Assisted Living is the staff's interaction and devotion to the residents. We strive to create caring\, meaningful connections with each resident. We focus on learning about every individual's personal history and interests to provide customized care. Relationships make all the difference! At the Gardens of Hazel Green\, we create a welcoming environment for you\, your family and your guests.
X-ALT-DESC;FMTTYPE=text/html:<span style="font-size:16px\;">Please join us for a Ribbon Cutting for <strong>Gardens of Hazel Green Assisted Living</strong>!<br />\n<br />\n<em>Nestled in a growing neighborhood outside of Huntsville\, the Gardens of Hazel Green Assisted Living offers a quiet\, relaxed lifestyle designed for health and happiness. From our cozy apartment living and peaceful outdoor spaces\, to our friendly and passionate caregivers\, you will enjoy living here! Everyone who calls our community home receives individual care and personalized assistance.<br />\n<br />\nWhat families love the most about the Gardens of Hazel Green Assisted Living is the staff&rsquo\;s interaction and devotion to the residents. We strive to create caring\, meaningful connections with each resident. We focus on learning about every individual&rsquo\;s personal history and interests to provide customized care. Relationships make all the difference! At the Gardens of Hazel Green\, we create a welcoming environment for you\, your family and your guests.</em></span><br />\n&nbsp\;
LOCATION:
UID:e.2112.14026
SEQUENCE:3
DTSTAMP:20260423T202323Z
URL:https://cm.hsvchamber.org/events/details/ribbon-cutting-gardens-of-hazel-green-assisted-living-14026
END:VEVENT

END:VCALENDAR
