BEGIN:VCALENDAR
VERSION:2.0
PRODID:-//ChamberMaster//Event Calendar 2.0//EN
METHOD:PUBLISH
X-PUBLISHED-TTL:P3D
REFRESH-INTERVAL:P3D
CALSCALE:GREGORIAN
BEGIN:VEVENT
DTSTART:20260515T150000Z
DTEND:20260515T153000Z
X-MICROSOFT-CDO-ALLDAYEVENT:FALSE
SUMMARY:Ribbon Cutting: Floors by Moore
DESCRIPTION:Join us for a Ribbon Cutting as we celebrate with our member\, Floors by Moore!\n\n\n\nAt Floors By Moore\, flooring is more than just our trade   it's our family's legacy. For over four generations\, we've served Huntsville and communities across north Alabama with flooring solutions built on trust\, craftsmanship\, and care. Our mission is simple: deliver beautiful hardwood floors and dependable service that homeowners can count on for years to come.\n\n\n\nFrom hardwood installation to refinishing and repairs\, every project is completed by our skilled in-house team   never subcontractors. We take pride in combining old-world craftsmanship with modern techniques\, ensuring your home receives the best of both tradition and innovation.
X-ALT-DESC;FMTTYPE=text/html:<span style="font-size:16px\;">Join us for a Ribbon Cutting as we celebrate with our member\, <strong>Floors by Moore</strong>!<br />\n<br />\n<em>At Floors By Moore\, flooring is more than just our trade &ndash\; it&rsquo\;s our family&rsquo\;s legacy. For over four generations\, we&rsquo\;ve served Huntsville and communities across north Alabama with flooring solutions built on trust\, craftsmanship\, and care. Our mission is simple: deliver beautiful hardwood floors and dependable service that homeowners can count on for years to come.<br />\n<br />\nFrom hardwood installation to refinishing and repairs\, every project is completed by our skilled in-house team &ndash\; never subcontractors. We take pride in combining old-world craftsmanship with modern techniques\, ensuring your home receives the best of both tradition and innovation.</em></span><br />\n&nbsp\;
LOCATION:
UID:e.2112.18552
SEQUENCE:3
DTSTAMP:20260423T054704Z
URL:https://cm.hsvchamber.org/events/details/ribbon-cutting-floors-by-moore-18552
END:VEVENT

END:VCALENDAR
