BEGIN:VCALENDAR
VERSION:2.0
PRODID:-//ChamberMaster//Event Calendar 2.0//EN
METHOD:PUBLISH
X-PUBLISHED-TTL:P3D
REFRESH-INTERVAL:P3D
CALSCALE:GREGORIAN
BEGIN:VEVENT
DTSTART:20230517T170000Z
DTEND:20230517T173000Z
X-MICROSOFT-CDO-ALLDAYEVENT:FALSE
SUMMARY:Ribbon Cutting: Floor & Decor
DESCRIPTION:Please join us for a Ribbon Cutting for Floor & Decor!\n\n\n\nFloor & Decor is a leading specialty retailer of hard surface flooring\, offering the broadest in-stock selection of tile\, wood\, stone\, related tools and flooring accessories at everyday low prices. Founded in 2000 and headquartered in Atlanta\, Floor & Decor is one of Fortune's 100 fastest-growing companies.\n\n\n\nAt Floor & Decor\, homeowners and professional contractors have access to superstore selection at warehouse prices with showroom quality. Our extensive selection of in-stock product allows our customers to get what they need when they need it. And because we source directly from manufacturers or quarries worldwide\, our top quality products are priced below those of our competitors.\n\n\n\nThe Floor & Decor brand is also bolstered by a local focus that allows us to create a store experience and mix of products that meet the needs of each market we serve. We empower our store managers\, or chief executive merchants\, to create a local shopping experience.
X-ALT-DESC;FMTTYPE=text/html:<span style="font-size:16px\;"><span style="font-family:arial\;">Please join us for a Ribbon Cutting for <strong>Floor &amp\; Decor</strong>!</span><br />\n<br />\n<em>Floor &amp\; Decor is a leading specialty retailer of hard surface flooring\, offering the broadest in-stock selection of tile\, wood\, stone\, related tools and flooring accessories at everyday low prices. Founded in 2000 and headquartered in Atlanta\, Floor &amp\; Decor is one of Fortune&rsquo\;s 100 fastest-growing companies.<br />\n<br />\nAt Floor &amp\; Decor\, homeowners and professional contractors have access to superstore selection at warehouse prices with showroom quality. Our extensive selection of in-stock product allows our customers to get what they need when they need it. And because we source directly from manufacturers or quarries worldwide\, our top quality products are priced below those of our competitors.<br />\n<br />\nThe Floor &amp\; Decor brand is also bolstered by a local focus that allows us to create a store experience and mix of products that meet the needs of each market we serve. We empower our store managers\, or chief executive merchants\, to create a local shopping experience.</em></span><br />\n&nbsp\;
LOCATION:
UID:e.2112.14443
SEQUENCE:3
DTSTAMP:20260423T212441Z
URL:https://cm.hsvchamber.org/events/details/ribbon-cutting-floor-decor-14443
END:VEVENT

END:VCALENDAR
