BEGIN:VCALENDAR
VERSION:2.0
PRODID:-//ChamberMaster//Event Calendar 2.0//EN
METHOD:PUBLISH
X-PUBLISHED-TTL:P3D
REFRESH-INTERVAL:P3D
CALSCALE:GREGORIAN
BEGIN:VEVENT
DTSTART:20230620T150000Z
DTEND:20230620T153000Z
X-MICROSOFT-CDO-ALLDAYEVENT:FALSE
SUMMARY:Ribbon Cutting: Express Oil Change & Tire Engineers - Winchester Road
DESCRIPTION:Please join us for a Ribbon Cutting for Express Oil Change & Tire Engineers - Winchester Road!\n\n\n\nAt our Huntsville\, AL Winchester Road location   and at all our 340 locations across the country   we're here to make taking care of your car fast\, easy and affordable. And that goes way beyond changing your oil. Thing is\, we're here to help you with all your auto repair and maintenance needs.\n\n\n\nWorried about a strange noise? Come let us hear it. A/C running hot? We can get you cooled. All you have to do is stop in and talk to one of our friendly\, knowledgeable and helpful technicians.\n\n\n\nBecause in addition to providing the highest-quality services for your car\, being your on-demand car care partner is what we do best. So\, remember\, any time you need assistance with your vehicle   whether it's an oil change\, brake service or just a quick question   our team in Huntsville is here for you.
X-ALT-DESC;FMTTYPE=text/html:<span style="font-size:16px\;">Please join us for a Ribbon Cutting for <strong>Express Oil Change &amp\; Tire Engineers</strong> - Winchester Road!</span><br />\n<br />\n<span style="font-size:16px\;"><em>At our Huntsville\, AL Winchester Road location &ndash\; and at all our 340 locations across the country &ndash\; we&rsquo\;re here to make taking care of your car fast\, easy and affordable. And that goes way beyond changing your oil. Thing is\, we&rsquo\;re here to help you with all your auto repair and maintenance needs.<br />\n<br />\nWorried about a strange noise? Come let us hear it. A/C running hot? We can get you cooled. All you have to do is stop in and talk to one of our friendly\, knowledgeable and helpful technicians.<br />\n<br />\nBecause in addition to providing the highest-quality services for your car\, being your on-demand car care partner is what we do best. So\, remember\, any time you need assistance with your vehicle &ndash\; whether it&rsquo\;s an oil change\, brake service or just a quick question &ndash\; our team in Huntsville is here for you. </em></span><br />\n&nbsp\;
LOCATION:Plenty of parking in the rear of the building and on the side of the street.
UID:e.2112.15494
SEQUENCE:3
DTSTAMP:20260423T232905Z
URL:https://cm.hsvchamber.org/events/details/ribbon-cutting-express-oil-change-tire-engineers-winchester-road-15494
END:VEVENT

END:VCALENDAR
