BEGIN:VCALENDAR
VERSION:2.0
PRODID:-//ChamberMaster//Event Calendar 2.0//EN
METHOD:PUBLISH
X-PUBLISHED-TTL:P3D
REFRESH-INTERVAL:P3D
CALSCALE:GREGORIAN
BEGIN:VEVENT
DTSTART:20230602T210000Z
DTEND:20230602T213000Z
X-MICROSOFT-CDO-ALLDAYEVENT:FALSE
SUMMARY:Ribbon Cutting: Express Oil Change & Tire Engineers - Providence
DESCRIPTION:Please join us for a Ribbon Cutting for Express Oil Change & Tire Engineers - Providence!\n\n\n\nSince opening the first Express Oil Change & Service Center location in the Birmingham\, Alabama area in 1979\, the company has grown into a national leader in automotive service with 339 locations across the country. But perhaps even more important than the number of locations is the fact our brand is now synonymous with convenient\, high-quality automotive service. Eventually\, to reflect it becoming a leader in the tire industry as well\, the company became Express Oil Change & Tire Engineers.\n\n\n\nToday\, we've grown into a national leader in automotive service with 339 locations across 19 states. And we've stayed true to our mission of providing experienced\, trustworthy automotive care and outstanding service every single day.
X-ALT-DESC;FMTTYPE=text/html:<span style="font-size:16px\;">Please join us for a Ribbon Cutting for <strong>Express Oil Change &amp\; Tire Engineers - Providence</strong>!</span><br />\n<br />\n<span style="font-size:16px\;"><em>Since opening the first Express Oil Change &amp\; Service Center location in the Birmingham\, Alabama area in 1979\, the company has grown into a national leader in automotive service with 339 locations across the country. But perhaps even more important than the number of locations is the fact our brand is now synonymous with convenient\, high-quality automotive service. Eventually\, to reflect it becoming a leader in the tire industry as well\, the company became Express Oil Change &amp\; Tire Engineers.<br />\n<br />\nToday\, we&rsquo\;ve grown into a national leader in automotive service with 339 locations across 19 states. And we&rsquo\;ve stayed true to our mission of providing experienced\, trustworthy automotive care and outstanding service every single day.</em></span><br />\n&nbsp\;
LOCATION:Plenty of parking in the rear of the building and on the side of the street.
UID:e.2112.14447
SEQUENCE:3
DTSTAMP:20260423T231104Z
URL:https://cm.hsvchamber.org/events/details/ribbon-cutting-express-oil-change-tire-engineers-providence-14447
END:VEVENT

END:VCALENDAR
